BEGIN:VCALENDAR
VERSION:2.0
PRODID:-//ChamberMaster//Event Calendar 2.0//EN
METHOD:PUBLISH
X-PUBLISHED-TTL:P3D
REFRESH-INTERVAL:P3D
CALSCALE:GREGORIAN
BEGIN:VEVENT
DTSTART:20161105T140000Z
DTEND:20161106T000000Z
X-MICROSOFT-CDO-ALLDAYEVENT:FALSE
SUMMARY:Ten Thousand Villages annual Bag Sale
DESCRIPTION:Ten Thousand Villages\, a nonprofit fair trade gift store celebrating its 70th year\, is holding their annual "Bag Sale" Saturday\, Nov 5.  Get a head start on holiday shopping with the gifts that give twice    Everything in the store will be 25% off!  Artisans have been paid in full. Ten Thousand Villages directly impacts the lives of 20\,000 makers in 30 developing countries.  Your purchases truly make a difference.
X-ALT-DESC;FMTTYPE=text/html:Ten Thousand Villages\, a nonprofit fair trade gift store celebrating its 70th year\, is holding their annual &ldquo\;Bag Sale&rdquo\; Saturday\, Nov 5. &nbsp\;Get a head start on holiday shopping with the gifts that give twice &ndash\; &nbsp\;Everything in the store will be 25% off! &nbsp\;Artisans have been paid in full. Ten Thousand Villages directly impacts the lives of 20\,000 makers in 30 developing countries. &nbsp\;Your purchases truly make a difference.&nbsp\;
LOCATION:87 Congress Street\, Suite 104 Portsmouth
UID:e.1659.27968
SEQUENCE:3
DTSTAMP:20260421T213009Z
URL:https://business.portsmouthchamber.org/events/details/ten-thousand-villages-annual-bag-sale-27968
END:VEVENT

END:VCALENDAR
