BEGIN:VCALENDAR
VERSION:2.0
PRODID:-//ChamberMaster//Event Calendar 2.0//EN
METHOD:PUBLISH
X-PUBLISHED-TTL:P3D
REFRESH-INTERVAL:P3D
CALSCALE:GREGORIAN
BEGIN:VEVENT
DTSTART:20141024T140000Z
DTEND:20141025T000000Z
X-MICROSOFT-CDO-ALLDAYEVENT:FALSE
SUMMARY:Ten Thousand Villages Shopping Event to Help Fight Ebola
DESCRIPTION:15% of the proceeds will be donated to Partners in Health\, a leader in the fight against ebola in West Africa. Location: 87 Congress Street\, Portsmouth.
X-ALT-DESC;FMTTYPE=text/html:<span style="font-family:tahoma\,sans-serif\;">15% of the proceeds will be donated to Partners in Health\, a leader in the fight against ebola in West Africa. Location: 87 Congress Street\, Portsmouth.&nbsp\;</span>
LOCATION:
UID:e.1659.3483
SEQUENCE:3
DTSTAMP:20260419T144623Z
URL:https://business.portsmouthchamber.org/events/details/ten-thousand-villages-shopping-event-to-help-fight-ebola-10-24-2014-3483
END:VEVENT

END:VCALENDAR
