BEGIN:VCALENDAR
VERSION:2.0
PRODID:-//ChamberMaster//Event Calendar 2.0//EN
METHOD:PUBLISH
X-PUBLISHED-TTL:P3D
REFRESH-INTERVAL:P3D
CALSCALE:GREGORIAN
BEGIN:VEVENT
DTSTART;VALUE=DATE:20170422
DTEND;VALUE=DATE:20170423
TRANSP:TRANSPARENT
X-MICROSOFT-CDO-ALLDAYEVENT:TRUE
SUMMARY:Ten Thousands Villages Celebrates Earth Day!
DESCRIPTION:Save the Earth\, and some pennies\, during our Earth Day Celebration!\n\nTen Thousand Villages' mission is to make the world a better place. One of the ways we do that is by encouraging our artisans to use recyclable\, sustainable\, and renewable resources.  Come by this Saturday to learn more about our many recycled products and the resourceful artisans who make them. While you are here\, take part in our fun Earth Day quiz to receive up to 25% off any item of your choice!\n\nWe also have an extra special gift to help you celebrate Spring!\n\n\n\nPurchase one of our hand-crafted mugs (or any other planter)\, and receive a free planting on us\, while supplies last.\n\nGreat gift for Mom\, or just to cheer up your table!\n\nAs always\, artisans have been paid in full.
X-ALT-DESC;FMTTYPE=text/html:Save the Earth\, and some pennies\, during our Earth Day Celebration!<br />\nTen Thousand Villages&rsquo\; mission is to make the world a better place. One of the ways we do that is by encouraging our artisans to use recyclable\, sustainable\, and renewable resources. &nbsp\;Come by this Saturday to learn more about our many recycled products and the resourceful artisans who make them. While you are here\, take part in our fun Earth Day quiz to receive up to 25% off any item of your choice!<br />\nWe also have an extra special gift to help you celebrate Spring!<br />\n<br />\nPurchase one of our hand-crafted mugs (or any other planter)\, and receive a free planting on us\, while supplies last.<br />\nGreat gift for Mom\, or just to cheer up your table!<br />\nAs always\, artisans have been paid in full.<br />\n&nbsp\;
LOCATION:Ten Thousand Villages 87 Congress Street #104\, Portsmouth
UID:e.1659.30954
SEQUENCE:3
DTSTAMP:20260421T131802Z
URL:https://business.portsmouthchamber.org/events/details/ten-thousands-villages-celebrates-earth-day-30954
END:VEVENT

END:VCALENDAR
