BEGIN:VCALENDAR
VERSION:2.0
PRODID:-//ChamberMaster//Event Calendar 2.0//EN
METHOD:PUBLISH
X-PUBLISHED-TTL:P3D
REFRESH-INTERVAL:P3D
CALSCALE:GREGORIAN
BEGIN:VEVENT
DTSTART:20161027T213000Z
DTEND:20161027T233000Z
X-MICROSOFT-CDO-ALLDAYEVENT:FALSE
SUMMARY:Tenants Association at Pease Appreciation After Hours Party
DESCRIPTION:Please join TAP\, Martin's Point Health Care and Portsmouth Physical Therapy for an after hours Halloween event. Prizes for the best costume! Door raffles sponsored by TAP companies. Food & drinks will be provided.\n\n\n\nRegister at Eventbrite.com
X-ALT-DESC;FMTTYPE=text/html:Please join TAP\, Martin&#39\;s Point Health Care and Portsmouth Physical Therapy for an after hours Halloween event. Prizes for the best costume! Door raffles sponsored by TAP companies. Food &amp\; drinks will be provided.<br />\n<br />\nRegister at <a href="https://www.eventbrite.com/e/halloween-after-hours-with-martins-point-portsmouth-pt-tickets-28657574577">Eventbrite.com</a>
LOCATION:Martin's Point Health Care 161 Corporate Drive Portsmouth\, NH
UID:e.1659.27691
SEQUENCE:3
DTSTAMP:20260421T225342Z
URL:https://business.portsmouthchamber.org/events/details/tenants-association-at-pease-appreciation-after-hours-party-27691
END:VEVENT

END:VCALENDAR
