BEGIN:VCALENDAR
VERSION:2.0
PRODID:-//ChamberMaster//Event Calendar 2.0//EN
METHOD:PUBLISH
X-PUBLISHED-TTL:P3D
REFRESH-INTERVAL:P3D
CALSCALE:GREGORIAN
BEGIN:VEVENT
DTSTART:20170228T230000Z
DTEND:20170301T010000Z
X-MICROSOFT-CDO-ALLDAYEVENT:FALSE
SUMMARY:The Blue Mermaid brings back IPA Night ( Portsmouth Beer Week event)
DESCRIPTION:Back again! One of the most popular events of the week   IPA night.\n\n\n\nStop into the Blue Mermaid for a selection of IPAs. Featuring the best of the best.\n\n\n\nTime to get blasted by hops!\n\n\n\nTime TBD.\n\n\n\nIPA Night Beer list (as of 2/13/17)\n\n\n\nSome Apostrpohe IPA\n\nHenniker Damn Sure IPA\n\n603 Double Black IPA\n\nTwo Roads   Two Juicy: New England Double IPA\n\nSmuttlabs India Schwarzbier\n\nGreat Rhythm   Tropical Haze IPA (All new PBW Exclusive Release)
X-ALT-DESC;FMTTYPE=text/html:Back again! One of the most popular events of the week &ndash\; IPA night.<br />\n<br />\nStop into the Blue Mermaid for a selection of IPAs. Featuring the best of the best.<br />\n<br />\nTime to get blasted by hops!<br />\n<br />\nTime TBD.<br />\n<br />\nIPA Night Beer list (as of 2/13/17)<br />\n<br />\nSome Apostrpohe IPA<br />\nHenniker Damn Sure IPA<br />\n603 Double Black IPA<br />\nTwo Roads &ndash\; Two Juicy: New England Double IPA<br />\nSmuttlabs India Schwarzbier<br />\nGreat Rhythm &ndash\; Tropical Haze IPA (All new PBW Exclusive Release)
LOCATION:The Blue Mermaid 409 The hill\, Portsmouth
UID:e.1659.30031
SEQUENCE:3
DTSTAMP:20260421T164324Z
URL:https://business.portsmouthchamber.org/events/details/the-blue-mermaid-brings-back-ipa-night-portsmouth-beer-week-event-30031
END:VEVENT

END:VCALENDAR
