BEGIN:VCALENDAR
VERSION:2.0
PRODID:-//ChamberMaster//Event Calendar 2.0//EN
METHOD:PUBLISH
X-PUBLISHED-TTL:P3D
REFRESH-INTERVAL:P3D
CALSCALE:GREGORIAN
BEGIN:VEVENT
DTSTART:20161112T150000Z
DTEND:20161112T190000Z
X-MICROSOFT-CDO-ALLDAYEVENT:FALSE
SUMMARY:The Children's Museum of New Hampshire brings Books Alive!
DESCRIPTION:Our Books Alive program features several visits per year by beloved children's book characters. At each event\, there are stories read aloud\, literacy activities\, fun crafts and of course\, periodic appearances by the characters. Kids are welcome to share a hug\, handshake or high-five with each character and pose for photos.\n\n\n\nClifford the Big Red Dog is coming to visit! Generations of kids have shared Clifford's adventures and have been inspired by his stories. Clifford has starred in 80 children's books\, a beloved PBS Kid's show and is even the official mascot of Scholastic Books! Clifford is the perfect loveable dog to help children get excited about the act of reading. The museum's Books Alive program seeks to make reading a regular family experience. Join Museum educators and a costumed Clifford as we read his stories throughout the day and engage in special crafts and activities celebrating literacy.
X-ALT-DESC;FMTTYPE=text/html:Our Books Alive program features several visits per year by beloved children&#39\;s book characters. At each event\, there are stories read aloud\, literacy activities\, fun crafts and of course\, periodic appearances by the characters. Kids are welcome to share a hug\, handshake or high-five with each character and pose for photos.<br />\n<br />\nClifford the Big Red Dog is coming to visit! Generations of kids have shared Clifford&rsquo\;s adventures and have been inspired by his stories. Clifford has starred in 80 children&rsquo\;s books\, a beloved PBS Kid&rsquo\;s show and is even the official mascot of Scholastic Books! Clifford is the perfect loveable dog to help children get excited about the act of reading. The museum&rsquo\;s Books Alive program seeks to make reading a regular family experience. Join Museum educators and a costumed Clifford as we read his stories throughout the day and engage in special crafts and activities celebrating literacy.
LOCATION:Children's Museum of New Hampshire 6 Washington Street Dover\, NH
UID:e.1659.27621
SEQUENCE:3
DTSTAMP:20260421T213519Z
URL:https://business.portsmouthchamber.org/events/details/the-children-s-museum-of-new-hampshire-brings-books-alive-27621
END:VEVENT

END:VCALENDAR
