BEGIN:VCALENDAR
VERSION:2.0
PRODID:-//ChamberMaster//Event Calendar 2.0//EN
METHOD:PUBLISH
X-PUBLISHED-TTL:P3D
REFRESH-INTERVAL:P3D
CALSCALE:GREGORIAN
BEGIN:VEVENT
DTSTART:20151011T000000Z
DTEND:20151011T020000Z
X-MICROSOFT-CDO-ALLDAYEVENT:FALSE
SUMMARY:The District Restaurant Singer Songwriter Series @ The Music Hall Loft Beauty Pill
DESCRIPTION:The ambitious cinematic sound of Beauty Pill\, a band from Washington\, DC\, is based largely around the songs and ideas of singer/guitarist/producer Chad Clark.
X-ALT-DESC;FMTTYPE=text/html:<span style="background-color:transparent\; color:rgb(0\, 0\, 0)\; font-family:arial\; font-size:14.6667px">The ambitious cinematic sound of Beauty Pill\, a band from Washington\, DC\, is based largely around the songs and ideas of singer/guitarist/producer Chad Clark.</span>
LOCATION:The Music Hall Loft 131 Congress Street\, Portsmouth
UID:e.1659.12076
SEQUENCE:3
DTSTAMP:20260422T190612Z
URL:https://business.portsmouthchamber.org/events/details/the-district-restaurant-singer-songwriter-series-the-music-hall-loft-beauty-pill-10-10-2015-12076
END:VEVENT

END:VCALENDAR
