BEGIN:VCALENDAR
VERSION:2.0
PRODID:-//ChamberMaster//Event Calendar 2.0//EN
METHOD:PUBLISH
X-PUBLISHED-TTL:P3D
REFRESH-INTERVAL:P3D
CALSCALE:GREGORIAN
BEGIN:VEVENT
DTSTART:20160306T010000Z
DTEND:20160306T030000Z
X-MICROSOFT-CDO-ALLDAYEVENT:FALSE
SUMMARY:The District Restaurant Singer Songwriter Series @ The Music Hall Loft - Melissa Ferrick
DESCRIPTION:Melissa Ferrick is a music icon with a voice that is instantly familiar and comfortable. Her impressive career longevity as a predominantly independent artist is virtually unheard of and speaks to her talent and the world she has built for herself. Ferrick is an eight-time Boston Music Award-winner and regarded by the industry and her peers as one of the most prolific and hardworking artists in the business. She has shared the stage with Morrissey\, Marc Cohn\, Paul Westerberg\, Dwight Yoakam\, John Hiatt\, Weezer\, Tegan and Sara\, G-Love & Special Sauce\, Bob Dylan\, Dan Bern\, Ani DiFranco\, k.d. Lang\, Suzanne Vega\, Shawn Colvin\, Joan Armatrading\, Mike Doughty\, The Indigo Girls\, and many others.
X-ALT-DESC;FMTTYPE=text/html:<span style="color: rgb(102\, 102\, 102)\; font-family: 'Droid Sans'\, 'Lucida Grande'\, Arial\, sans-serif\; font-size: 16.8px\; line-height: 26.4px\;">Melissa Ferrick is a music icon with a voice that is instantly familiar and comfortable. Her impressive career longevity as a predominantly independent artist is virtually unheard of and speaks to her talent and the world she has built for herself. Ferrick is an eight-time Boston Music Award-winner and regarded by the industry and her peers as one of the most prolific and hardworking artists in the business. She has shared the stage with Morrissey\, Marc Cohn\, Paul Westerberg\, Dwight Yoakam\, John Hiatt\, Weezer\, Tegan and Sara\, G-Love &amp\; Special Sauce\, Bob Dylan\, Dan Bern\, Ani DiFranco\, k.d. Lang\, Suzanne Vega\, Shawn Colvin\, Joan Armatrading\, Mike Doughty\, The Indigo Girls\, and many others.</span>
LOCATION:The Music Hall Loft 131 Congress Street\, Portsmouth
UID:e.1659.16689
SEQUENCE:3
DTSTAMP:20260420T150451Z
URL:https://business.portsmouthchamber.org/events/details/the-district-restaurant-singer-songwriter-series-the-music-hall-loft-melissa-ferrick-03-05-2016-16689
END:VEVENT

END:VCALENDAR
