BEGIN:VCALENDAR
VERSION:2.0
PRODID:-//ChamberMaster//Event Calendar 2.0//EN
METHOD:PUBLISH
X-PUBLISHED-TTL:P3D
REFRESH-INTERVAL:P3D
CALSCALE:GREGORIAN
BEGIN:VEVENT
DTSTART:20160125T000000Z
DTEND:20160125T020000Z
X-MICROSOFT-CDO-ALLDAYEVENT:FALSE
SUMMARY:The District Restaurant Singer Songwriter Series @ The Music Hall Loft - The Weather Station
DESCRIPTION:The Weather Station is the project of Canadian songwriter Tamara Lindeman\; folk music based in classic elements of songcraft   melody\, tension\, meaning. Lindeman has established herself as a songwriter's songwriter\, earning accolades for her delicate\, carefully worded verse\, filled with double meanings\, complex metaphors\, and rich details of the everyday. Her work has drawn accolades from Pitchfork\, The Globe and Mail \, Exclaim\, The Toronto Star\, and many more.
X-ALT-DESC;FMTTYPE=text/html:<span style="color: rgb(102\, 102\, 102)\; font-family: 'Droid Sans'\, 'Lucida Grande'\, Arial\, sans-serif\; font-size: 16.8px\; line-height: 26.4px\;">The Weather Station is the project of Canadian songwriter Tamara Lindeman\; folk music based in classic elements of songcraft &ndash\; melody\, tension\, meaning. Lindeman has established herself as a songwriter&rsquo\;s songwriter\, earning accolades for her delicate\, carefully worded verse\, filled with double meanings\, complex metaphors\, and rich details of the everyday. Her work has drawn accolades from&nbsp\;</span><em style="color: rgb(102\, 102\, 102)\; font-family: 'Droid Sans'\, 'Lucida Grande'\, Arial\, sans-serif\; font-size: 16.8px\; line-height: 26.4px\;">Pitchfork</em><span style="color: rgb(102\, 102\, 102)\; font-family: 'Droid Sans'\, 'Lucida Grande'\, Arial\, sans-serif\; font-size: 16.8px\; line-height: 26.4px\;">\,&nbsp\;</span><em style="color: rgb(102\, 102\, 102)\; font-family: 'Droid Sans'\, 'Lucida Grande'\, Arial\, sans-serif\; font-size: 16.8px\; line-height: 26.4px\;">The Globe and Mail</em><span style="color: rgb(102\, 102\, 102)\; font-family: 'Droid Sans'\, 'Lucida Grande'\, Arial\, sans-serif\; font-size: 16.8px\; line-height: 26.4px\;">&nbsp\;\,&nbsp\;</span><em style="color: rgb(102\, 102\, 102)\; font-family: 'Droid Sans'\, 'Lucida Grande'\, Arial\, sans-serif\; font-size: 16.8px\; line-height: 26.4px\;">Exclaim</em><span style="color: rgb(102\, 102\, 102)\; font-family: 'Droid Sans'\, 'Lucida Grande'\, Arial\, sans-serif\; font-size: 16.8px\; line-height: 26.4px\;">\,&nbsp\;</span><em style="color: rgb(102\, 102\, 102)\; font-family: 'Droid Sans'\, 'Lucida Grande'\, Arial\, sans-serif\; font-size: 16.8px\; line-height: 26.4px\;">The Toronto Star</em><span style="color: rgb(102\, 102\, 102)\; font-family: 'Droid Sans'\, 'Lucida Grande'\, Arial\, sans-serif\; font-size: 16.8px\; line-height: 26.4px\;">\, and many more.</span>
LOCATION:The Music Hall Loft 131 Congress Street\, Portsmouth
UID:e.1659.13860
SEQUENCE:3
DTSTAMP:20260422T135400Z
URL:https://business.portsmouthchamber.org/events/details/the-district-restaurant-singer-songwriter-series-the-music-hall-loft-the-weather-station-01-24-2016-13860
END:VEVENT

END:VCALENDAR
