BEGIN:VCALENDAR
VERSION:2.0
PRODID:-//ChamberMaster//Event Calendar 2.0//EN
METHOD:PUBLISH
X-PUBLISHED-TTL:P3D
REFRESH-INTERVAL:P3D
CALSCALE:GREGORIAN
BEGIN:VEVENT
DTSTART:20161022T140000Z
DTEND:20161022T200000Z
X-MICROSOFT-CDO-ALLDAYEVENT:FALSE
SUMMARY:The Frank Jones Center Presents! The Fall Home Show
DESCRIPTION:Hosted by Binnie Media Group\,\n\nThe Fall Home Show
X-ALT-DESC;FMTTYPE=text/html:<h2>Hosted by Binnie Media Group\,<br />\nThe Fall Home Show</h2>\n
LOCATION:The Frank Jones Center 400 Route One Bypass\, Portsmouth
UID:e.1659.21881
SEQUENCE:3
DTSTAMP:20260421T225428Z
URL:https://business.portsmouthchamber.org/events/details/the-frank-jones-center-presents-the-fall-home-show-10-22-2016-21881
END:VEVENT

END:VCALENDAR
