BEGIN:VCALENDAR
VERSION:2.0
PRODID:-//ChamberMaster//Event Calendar 2.0//EN
METHOD:PUBLISH
X-PUBLISHED-TTL:P3D
REFRESH-INTERVAL:P3D
CALSCALE:GREGORIAN
BEGIN:VEVENT
DTSTART:20160306T150000Z
DTEND:20160306T200000Z
X-MICROSOFT-CDO-ALLDAYEVENT:FALSE
SUMMARY:The Frank Jones Center Presents - The Nan Gurley Antique Show!
DESCRIPTION:The shows focus on Early American & are extremely popular with dealers and collectors looking for the best 18th and 19th century Americana. Quality is the priority at the show where dealers have been advised to bring their best and leave the rest ~ at home.
X-ALT-DESC;FMTTYPE=text/html:The shows focus on Early American &amp\; are extremely popular with dealers and collectors looking for the best 18th and 19th century Americana. Quality is the priority at the show where dealers have been advised to bring their best and leave the rest ~ at home.&nbsp\;
LOCATION:The Frank Jones Center 400 Route 1 Bypass\, Portsmouth
UID:e.1659.6945
SEQUENCE:3
DTSTAMP:20260420T150308Z
URL:https://business.portsmouthchamber.org/events/details/the-frank-jones-center-presents-the-nan-gurley-antique-show-03-06-2016-6945
END:VEVENT

END:VCALENDAR
