BEGIN:VCALENDAR
VERSION:2.0
PRODID:-//ChamberMaster//Event Calendar 2.0//EN
METHOD:PUBLISH
X-PUBLISHED-TTL:P3D
REFRESH-INTERVAL:P3D
CALSCALE:GREGORIAN
BEGIN:VEVENT
DTSTART:20170419T220000Z
DTEND:20170419T233000Z
X-MICROSOFT-CDO-ALLDAYEVENT:FALSE
SUMMARY:The Gundalow Company partners with Portsmouth Brewery for Science Cafe: Raging Rivers – Is New England prepared for extreme weather?
DESCRIPTION:Join the Gundalow Company and Portsmouth Brewery for the next Science Cafe -- "Raging Rivers   Is New England prepared for increasingly extreme weather?" Discussion led by Mary Stampone (NH State Climatologist) and Cliff Sinnott (NH Coastal Risk and Hazards Commission)\, moderated by Sam Evans Brown (NHPR).
X-ALT-DESC;FMTTYPE=text/html:Join the Gundalow Company and Portsmouth Brewery for the next Science Cafe -- &quot\;Raging Rivers &ndash\; Is New England prepared for increasingly extreme weather?&quot\; Discussion led by Mary Stampone (NH State Climatologist) and Cliff Sinnott (NH Coastal Risk and Hazards Commission)\, moderated by Sam Evans Brown (NHPR).
LOCATION:Portsmouth Brewery 56 Market Street\, Portsmouth NH 03801
UID:e.1659.30329
SEQUENCE:3
DTSTAMP:20260421T132637Z
URL:https://business.portsmouthchamber.org/events/details/the-gundalow-company-partners-with-portsmouth-brewery-for-science-cafe-raging-rivers-is-new-england-prepared-for-extreme-weather-30329
END:VEVENT

END:VCALENDAR
