BEGIN:VCALENDAR
VERSION:2.0
PRODID:-//ChamberMaster//Event Calendar 2.0//EN
METHOD:PUBLISH
X-PUBLISHED-TTL:P3D
REFRESH-INTERVAL:P3D
CALSCALE:GREGORIAN
BEGIN:VEVENT
DTSTART:20160311T003000Z
DTEND:20160311T040000Z
X-MICROSOFT-CDO-ALLDAYEVENT:FALSE
SUMMARY:The Marvelous Wonderettes
DESCRIPTION:Will you go to prom with us? Seacoast Rep is headed back to high school with the hit musical revue The Marvelous Wonderettes. \n\n\n\nWonderettes depicts four best friends at Springfield High School\, all members of the song-leading squad.  Betty Jean\, Cindy Lou\, Missy and Suzy are portrayed as 18-year olds jockeying for title role of prom queen in 1958\, then a decade older at a class reunion. As they experience the loves\, losses\, and social gymnastics of their age\, they sing. A lot.\n\n\n\nAmong the 30 classic hits of the '50s and '60s are: "Stupid Cupid\," "Lucky Lips\," "Lipstick on Your Collar\," and "Heatwave."\n\n\n\nIn the second act\, set at the school reunion in 1968\, the song list includes more rock and soulful reflections as the young women take stock of their growing up. The pop hits from that era include "Respect\," "Son of a Preacher Man\," and "Heatwave." \n\n\n\nDirected and choreographed by Taryn Hermann\, the mind behind last year's Guys and Dolls\, and designed by the Mad Men behind Avenue Q and Oliver\, The Marvelous Wonderettes is sure to be a treat for all of the senses. \n\n\n\nThe Marvelous Wonderettes is appropriate for all audiences. \n\n\n\nTickets are available online\, or through our box office at 603-433-4472.
X-ALT-DESC;FMTTYPE=text/html:Will you go to prom with us? Seacoast Rep is headed back to high school with the hit musical revue&nbsp\;The Marvelous Wonderettes.&nbsp\;<br />\n<br />\nWonderettes depicts four best friends at Springfield High School\, all members of the song-leading squad. &nbsp\;Betty Jean\, Cindy Lou\, Missy and Suzy are portrayed as 18-year olds jockeying for title role of prom queen in 1958\, then a decade older at a class reunion. As they experience the loves\, losses\, and social gymnastics of their age\, they sing. A lot.<br />\n<br />\nAmong the 30 classic hits of the &#39\;50s and &#39\;60s are: &quot\;Stupid Cupid\,&quot\; &quot\;Lucky Lips\,&quot\; &quot\;Lipstick on Your Collar\,&quot\; and &quot\;Heatwave.&quot\;<br />\n<br />\nIn the second act\, set at the school reunion in 1968\, the song list includes more rock and soulful reflections as the young women take stock of their growing up. The pop hits from that era include &quot\;Respect\,&quot\; &quot\;Son of a Preacher Man\,&quot\; and &quot\;Heatwave.&quot\;&nbsp\;<br />\n<br />\nDirected and choreographed by Taryn Hermann\, the mind behind last year&#39\;s&nbsp\;Guys and Dolls\, and designed by the Mad Men behind&nbsp\;Avenue Q&nbsp\;and&nbsp\;Oliver\,&nbsp\;The Marvelous Wonderettes&nbsp\;is sure to be a treat for all of the senses.&nbsp\;<br />\n<br />\nThe Marvelous Wonderettes&nbsp\;is appropriate for all audiences.&nbsp\;<br />\n<br />\nTickets are available&nbsp\;online\, or through our box office at 603-433-4472.
LOCATION:Seacoast Rep 125 Bow Street\, Portsmouth
UID:e.1659.17890
SEQUENCE:3
DTSTAMP:20260420T144808Z
URL:https://business.portsmouthchamber.org/events/details/the-marvelous-wonderettes-03-10-2016-17890
END:VEVENT

END:VCALENDAR
