BEGIN:VCALENDAR
VERSION:2.0
PRODID:-//ChamberMaster//Event Calendar 2.0//EN
METHOD:PUBLISH
X-PUBLISHED-TTL:P3D
REFRESH-INTERVAL:P3D
CALSCALE:GREGORIAN
BEGIN:VEVENT
DTSTART:20141220T153000Z
DTEND:20141220T170000Z
X-MICROSOFT-CDO-ALLDAYEVENT:FALSE
SUMMARY:The Muppet Christmas Carol
DESCRIPTION:The Muppet Christmas Carol will be presented by Cinemagic Stadium 10 in Portsmouth. Tickets are $5.00 and on sale now.
X-ALT-DESC;FMTTYPE=text/html:The Muppet Christmas Carol will be presented by Cinemagic Stadium 10 in Portsmouth. Tickets are $5.00 and on sale now.
LOCATION:2454 Lafayette Road\, Portsmouth
UID:e.1659.4283
SEQUENCE:3
DTSTAMP:20260419T131037Z
URL:https://business.portsmouthchamber.org/events/details/the-muppet-christmas-carol-12-20-2014-4283
END:VEVENT

END:VCALENDAR
