BEGIN:VCALENDAR
VERSION:2.0
PRODID:-//ChamberMaster//Event Calendar 2.0//EN
METHOD:PUBLISH
X-PUBLISHED-TTL:P3D
REFRESH-INTERVAL:P3D
CALSCALE:GREGORIAN
BEGIN:VEVENT
DTSTART:20170226T000000Z
DTEND:20170226T030000Z
X-MICROSOFT-CDO-ALLDAYEVENT:FALSE
SUMMARY:The Music Hall presents: Toni Erdmann
DESCRIPTION:Winfried\, a 65 year old music teacher\, doesn't see much of his working daughter Ines. He decides to surprise her with a visit while the serious career woman is working on an important project in Bucharest. When the two come to an impasse Winfried agrees to return home to Germany - but not before Winfried becomes "Toni Erdmann": his smooth-talking alter ego.
X-ALT-DESC;FMTTYPE=text/html:Winfried\, a 65 year old music teacher\, doesn&rsquo\;t see much of his working daughter Ines. He decides to surprise her with a visit while the serious career woman is working on an important project in Bucharest. When the two come to an impasse Winfried agrees to return home to Germany - but not before Winfried becomes &ldquo\;Toni Erdmann&rdquo\;: his smooth-talking alter ego.
LOCATION:The Historic Theater 28 Chestnut Street Portsmouth\, NH
UID:e.1659.29709
SEQUENCE:3
DTSTAMP:20260421T180012Z
URL:https://business.portsmouthchamber.org/events/details/the-music-hal-presents-toni-erdmann-02-25-2017-29709
END:VEVENT

END:VCALENDAR
