BEGIN:VCALENDAR
VERSION:2.0
PRODID:-//ChamberMaster//Event Calendar 2.0//EN
METHOD:PUBLISH
X-PUBLISHED-TTL:P3D
REFRESH-INTERVAL:P3D
CALSCALE:GREGORIAN
BEGIN:VEVENT
DTSTART:20161027T000000Z
DTEND:20161027T020000Z
X-MICROSOFT-CDO-ALLDAYEVENT:FALSE
SUMMARY:The Music Hall and Portsmouth Halloween Parade present: Haxan: Witchcraft through the Ages
DESCRIPTION:Once again the Music Hall and the Portsmouth Halloween Parade are teaming up with Walter Sickert & the Army of Broken Toys   This year they bring you Haxan: Witchcraft through the Ages\; a truly horrific 1922 treat. Tickets can be purchased through The Music Hall at http://www.themusichall.org
X-ALT-DESC;FMTTYPE=text/html:Once again the Music Hall and the Portsmouth Halloween Parade are teaming up with Walter Sickert &amp\; the Army of Broken Toys &ndash\; This year they bring you Haxan: Witchcraft through the Ages\; a truly horrific 1922 treat. Tickets can be purchased through The Music Hall at http://www.themusichall.org
LOCATION:The Music Hall Historic Theater 28 Chestnut St.\, Portsmouth
UID:e.1659.27617
SEQUENCE:3
DTSTAMP:20260421T225702Z
URL:https://business.portsmouthchamber.org/events/details/the-music-hall-and-portsmouth-halloween-parade-present-haxan-witchcraft-through-the-ages-27617
END:VEVENT

END:VCALENDAR
