BEGIN:VCALENDAR
VERSION:2.0
PRODID:-//ChamberMaster//Event Calendar 2.0//EN
METHOD:PUBLISH
X-PUBLISHED-TTL:P3D
REFRESH-INTERVAL:P3D
CALSCALE:GREGORIAN
BEGIN:VEVENT
DTSTART:20170222T000000Z
DTEND:20170222T020000Z
X-MICROSOFT-CDO-ALLDAYEVENT:FALSE
SUMMARY:The Music Hall: Double Indemnity (1944)
DESCRIPTION:Double Indemnity stars Barbara Stanwyck\, Fred MacMurrary\, Edward G. Robinson and a cheap blonde wig. The wig was purposely chosen by director Billy Wilder to make Stanwyck's character of a wife scheming to murder her husband with the aid of a hapless insurance salesman as sleazy as possible. And it succeeds. Co-written by Wilder and Raymond Chandler\, this classic film noir was nominated for seven Academy Awards\, including Stanwyck's third Oscar nod. A big hit with audiences\, the film received additional publicity when "American the Beautiful" singer Kate Smith urged the public to stay away on "moral grounds."
X-ALT-DESC;FMTTYPE=text/html:Double Indemnity stars Barbara Stanwyck\, Fred MacMurrary\, Edward G. Robinson and a cheap blonde wig. The wig was purposely chosen by director Billy Wilder to make Stanwyck&rsquo\;s character of a wife scheming to murder her husband with the aid of a hapless insurance salesman as sleazy as possible. And it succeeds. Co-written by Wilder and Raymond Chandler\, this classic film noir was nominated for seven Academy Awards\, including Stanwyck&rsquo\;s third Oscar nod. A big hit with audiences\, the film received additional publicity when &ldquo\;American the Beautiful&rdquo\; singer Kate Smith urged the public to stay away on &ldquo\;moral grounds.&rdquo\;
LOCATION:The Music Hall Loft 131 Congress Street Portsmouth\, NH
UID:e.1659.29702
SEQUENCE:3
DTSTAMP:20260421T163640Z
URL:https://business.portsmouthchamber.org/events/details/the-music-hall-double-indemnity-1944-29702
END:VEVENT

END:VCALENDAR
