BEGIN:VCALENDAR
VERSION:2.0
PRODID:-//ChamberMaster//Event Calendar 2.0//EN
METHOD:PUBLISH
X-PUBLISHED-TTL:P3D
REFRESH-INTERVAL:P3D
CALSCALE:GREGORIAN
BEGIN:VEVENT
DTSTART:20170326T170000Z
DTEND:20170326T220000Z
X-MICROSOFT-CDO-ALLDAYEVENT:FALSE
SUMMARY:The Music Hall Historic Theater broadcast "Idomeneo (Mozart)"
DESCRIPTION:HD broadcasts filmed live and streamed direct from Lincoln Center. James Levine conducts a rare Met revival of Mozart's Idomeneo\, set in the aftermath of the Trojan War. Jean-Pierre Ponnelle's classic production\, which has its first Met revival in over a decade this season\, stars Matthew Polenzani in the title role. The cast also includes Elza van den Heever as Elettra\, Nadine Sierra as Ilia\, Alice Coote as Idamante\, and Alan opie as Arbace.
X-ALT-DESC;FMTTYPE=text/html:HD broadcasts filmed live and streamed direct from Lincoln Center. James Levine conducts a rare Met revival of Mozart&rsquo\;s Idomeneo\, set in the aftermath of the Trojan War. Jean-Pierre Ponnelle&rsquo\;s classic production\, which has its first Met revival in over a decade this season\, stars Matthew Polenzani in the title role. The cast also includes Elza van den Heever as Elettra\, Nadine Sierra as Ilia\, Alice Coote as Idamante\, and Alan opie as Arbace.
LOCATION:The Historic Theater 28 Chestnut Street Portsmouth\, NH
UID:e.1659.30234
SEQUENCE:3
DTSTAMP:20260421T151425Z
URL:https://business.portsmouthchamber.org/events/details/the-music-hall-historic-theater-broadcast-idomeneo-mozart-30234
END:VEVENT

END:VCALENDAR
