BEGIN:VCALENDAR
VERSION:2.0
PRODID:-//ChamberMaster//Event Calendar 2.0//EN
METHOD:PUBLISH
X-PUBLISHED-TTL:P3D
REFRESH-INTERVAL:P3D
CALSCALE:GREGORIAN
BEGIN:VEVENT
DTSTART:20161102T230000Z
DTEND:20161103T010000Z
X-MICROSOFT-CDO-ALLDAYEVENT:FALSE
SUMMARY:The Music Hall Historic Theater: Don't Think Twice
DESCRIPTION:When a member of a popular New York City improv troupe gets cast on a hit TV show\, the rest of the group - all best friends - start to realize that not everyone is going to make it after all. From the director of Sleepwalk With Me and the creator of This American Life comes this critically acclaimed comedy packed with comic stars Keegan-Michael Key\, Gillian Jacobs\, Mike Birbiglia\, Kate Micucci\, Chris Gethard and Tami Sagher that presents a hilarious and honest look at the lives of professional funny people.
X-ALT-DESC;FMTTYPE=text/html:When a member of a popular New York City improv troupe gets cast on a hit TV show\, the rest of the group - all best friends - start to realize that not everyone is going to make it after all. From the director of Sleepwalk With Me and the creator of This American Life comes this critically acclaimed comedy packed with comic stars Keegan-Michael Key\, Gillian Jacobs\, Mike Birbiglia\, Kate Micucci\, Chris Gethard and Tami Sagher that presents a hilarious and honest look at the lives of professional funny people.
LOCATION:The Historic Theater 28 Chestnut Street Portsmouth\, NH 03801
UID:e.1659.27703
SEQUENCE:3
DTSTAMP:20260421T225532Z
URL:https://business.portsmouthchamber.org/events/details/the-music-hall-historic-theater-don-t-think-twice-11-02-2016-27703
END:VEVENT

END:VCALENDAR
