BEGIN:VCALENDAR
VERSION:2.0
PRODID:-//ChamberMaster//Event Calendar 2.0//EN
METHOD:PUBLISH
X-PUBLISHED-TTL:P3D
REFRESH-INTERVAL:P3D
CALSCALE:GREGORIAN
BEGIN:VEVENT
DTSTART:20170504T230000Z
DTEND:20170505T010000Z
X-MICROSOFT-CDO-ALLDAYEVENT:FALSE
SUMMARY:The Music Hall Historic Theater features "A United Kingdom"
DESCRIPTION:Based on extraordinary true events. In 1947\, Seretse Khama\, the King of Botswana\, met Ruth Williams\, a London office worker. They were a perfect match\, yet their proposed marriage was challenged not only by their families but by the British and South African governments. The latter had recently introduced the policy of apartheid and found the notion of a biracial couple ruling a neighboring country intolerable.
X-ALT-DESC;FMTTYPE=text/html:Based on extraordinary true events. In 1947\, Seretse Khama\, the King of Botswana\, met Ruth Williams\, a London office worker. They were a perfect match\, yet their proposed marriage was challenged not only by their families but by the British and South African governments. The latter had recently introduced the policy of apartheid and found the notion of a biracial couple ruling a neighboring country intolerable.
LOCATION:The Historic Theater 28 Chestnut Street Portsmouth\, NH
UID:e.1659.30262
SEQUENCE:3
DTSTAMP:20260421T121551Z
URL:https://business.portsmouthchamber.org/events/details/the-music-hall-historic-theater-features-a-united-kingdom-30262
END:VEVENT

END:VCALENDAR
