BEGIN:VCALENDAR
VERSION:2.0
PRODID:-//ChamberMaster//Event Calendar 2.0//EN
METHOD:PUBLISH
X-PUBLISHED-TTL:P3D
REFRESH-INTERVAL:P3D
CALSCALE:GREGORIAN
BEGIN:VEVENT
DTSTART:20170422T230000Z
DTEND:20170423T010000Z
X-MICROSOFT-CDO-ALLDAYEVENT:FALSE
SUMMARY:The Music Hall Historic Theater features "Paterson"
DESCRIPTION:The latest from writer/director Jim Jarmusch. Every day\, Paterson\, a bus driver in the city of Paterson\, New Jersey\, adheres to a simple routine: he drives his daily route\, observing the city as it drifts across his windshield and overhearing fragments of conversation swirling around him\; he writes poetry into a notebook\; he walks his dog\; he stops in a bar and drinks exactly one beer\; he goes home to his wife\, Laura. By contrast\, Laura's world is ever changing.
X-ALT-DESC;FMTTYPE=text/html:The latest from writer/director Jim Jarmusch. Every day\, Paterson\, a bus driver in the city of Paterson\, New Jersey\, adheres to a simple routine: he drives his daily route\, observing the city as it drifts across his windshield and overhearing fragments of conversation swirling around him\; he writes poetry into a notebook\; he walks his dog\; he stops in a bar and drinks exactly one beer\; he goes home to his wife\, Laura. By contrast\, Laura&rsquo\;s world is ever changing.
LOCATION:The Historic Theater 28 Chestnut Street Portsmouth\, NH
UID:e.1659.30259
SEQUENCE:3
DTSTAMP:20260421T132120Z
URL:https://business.portsmouthchamber.org/events/details/the-music-hall-historic-theater-features-paterson-30259
END:VEVENT

END:VCALENDAR
