BEGIN:VCALENDAR
VERSION:2.0
PRODID:-//ChamberMaster//Event Calendar 2.0//EN
METHOD:PUBLISH
X-PUBLISHED-TTL:P3D
REFRESH-INTERVAL:P3D
CALSCALE:GREGORIAN
BEGIN:VEVENT
DTSTART:20161107T000000Z
DTEND:20161107T020000Z
X-MICROSOFT-CDO-ALLDAYEVENT:FALSE
SUMMARY:The Music Hall Historic Theater: Gimme Danger
DESCRIPTION:Jim Jarmusch's new film chronicles the story of The Stooges\, one of the greatest rock-n-roll bands of all time. Emerging from Ann Arbor Michigan amidst a countercultural revolution\, The Stooges' powerful and aggressive style of rock-n-roll blew a crater in the musical landscape of the late 1960s. With Iggy Pop as front-man\, assaulting audiences with a blend of rock\, blues\, R&B\, and free jazz\, the band planted the seeds for what would be called punk and alternative rock in the decades that followed.
X-ALT-DESC;FMTTYPE=text/html:Jim Jarmusch&rsquo\;s new film chronicles the story of The Stooges\, one of the greatest rock-n-roll bands of all time. Emerging from Ann Arbor Michigan amidst a countercultural revolution\, The Stooges&rsquo\; powerful and aggressive style of rock-n-roll blew a crater in the musical landscape of the late 1960s. With Iggy Pop as front-man\, assaulting audiences with a blend of rock\, blues\, R&amp\;B\, and free jazz\, the band planted the seeds for what would be called punk and alternative rock in the decades that followed.
LOCATION:The Historic Theater 28 Chestnut Street Portsmouth\, NH 03801
UID:e.1659.27916
SEQUENCE:3
DTSTAMP:20260421T213009Z
URL:https://business.portsmouthchamber.org/events/details/the-music-hall-historic-theater-gimme-danger-27916
END:VEVENT

END:VCALENDAR
