BEGIN:VCALENDAR
VERSION:2.0
PRODID:-//ChamberMaster//Event Calendar 2.0//EN
METHOD:PUBLISH
X-PUBLISHED-TTL:P3D
REFRESH-INTERVAL:P3D
CALSCALE:GREGORIAN
BEGIN:VEVENT
DTSTART:20161111T000000Z
DTEND:20161111T020000Z
X-MICROSOFT-CDO-ALLDAYEVENT:FALSE
SUMMARY:The Music Hall Historic Theater: Howard's End (Restoration)
DESCRIPTION:Beautifully restored in high definition. This adaptation of E. M. Forster's classic 1910 novel shows in careful detail the injuriously rigid British class consciousness of the early 20th century. The film's catalyst is "poor relation" Margaret Schlegel (Emma Thompson)\, who inherits part of the estate of Ruth Wilcox (Vanessa Redgrave)\, an upper-class woman whom she had befriended. The film's principal characters are divided by caste: aristocratic industrial Henry Wilcox (Anthony Hopkins)\; middle-echelon Margaret and her sister Helen (Helena Bonham Carter)\; and working-class clerk Leonard Bast (Sam West) and his wife (Nicola Duffett). Nominated for 9 Oscars\, including Best Picture and Best Director.
X-ALT-DESC;FMTTYPE=text/html:Beautifully restored in high definition. This adaptation of E. M. Forster&rsquo\;s classic 1910 novel shows in careful detail the injuriously rigid British class consciousness of the early 20th century. The film&rsquo\;s catalyst is &ldquo\;poor relation&rdquo\; Margaret Schlegel (Emma Thompson)\, who inherits part of the estate of Ruth Wilcox (Vanessa Redgrave)\, an upper-class woman whom she had befriended. The film&rsquo\;s principal characters are divided by caste: aristocratic industrial Henry Wilcox (Anthony Hopkins)\; middle-echelon Margaret and her sister Helen (Helena Bonham Carter)\; and working-class clerk Leonard Bast (Sam West) and his wife (Nicola Duffett). Nominated for 9 Oscars\, including Best Picture and Best Director.
LOCATION:The Historic Theater 28 Chestnut Street Portsmouth\, NH 03801
UID:e.1659.27919
SEQUENCE:3
DTSTAMP:20260421T213009Z
URL:https://business.portsmouthchamber.org/events/details/the-music-hall-historic-theater-howard-s-end-restoration-27919
END:VEVENT

END:VCALENDAR
