BEGIN:VCALENDAR
VERSION:2.0
PRODID:-//ChamberMaster//Event Calendar 2.0//EN
METHOD:PUBLISH
X-PUBLISHED-TTL:P3D
REFRESH-INTERVAL:P3D
CALSCALE:GREGORIAN
BEGIN:VEVENT
DTSTART:20170419T230000Z
DTEND:20170420T010000Z
X-MICROSOFT-CDO-ALLDAYEVENT:FALSE
SUMMARY:The Music Hall Historic Theater presents: Cirque Troupe: Seven Fingers of The Hand: Cuisine and Confessions
DESCRIPTION:Prepare to be delighted and amazed when this world-renowned cirque troupe flips their way onto the Historic Theater stage. The show is built on the real-life personal stories of each cast member and set to original music.\n\n\n\nSee where cirque meets the culinary as they welcome you into their kitchen. Live cooking\, countless backflips\, and a set that combines childhood\, current\, and dream kitchens\, don't miss this show. It reminds us that each individual is a unique set of ingredients and that the kitchen is an iconic\, multicultural\, and intergenerational meeting place.
X-ALT-DESC;FMTTYPE=text/html:Prepare to be delighted and amazed when this world-renowned cirque troupe flips their way onto the Historic Theater stage. The show is built on the real-life personal stories of each cast member and set to original music.<br />\n<br />\nSee where cirque meets the culinary as they welcome you into their kitchen. Live cooking\, countless backflips\, and a set that combines childhood\, current\, and dream kitchens\, don&rsquo\;t miss this show. It reminds us that each individual is a unique set of ingredients and that the kitchen is an iconic\, multicultural\, and intergenerational meeting place.
LOCATION:The Historic Theater 28 Chestnut Street Portsmouth\, NH
UID:e.1659.30247
SEQUENCE:3
DTSTAMP:20260421T132641Z
URL:https://business.portsmouthchamber.org/events/details/the-music-hall-historic-theater-presents-cirque-troupe-seven-fingers-of-the-hand-cuisine-and-confessions-30247
END:VEVENT

END:VCALENDAR
