BEGIN:VCALENDAR
VERSION:2.0
PRODID:-//ChamberMaster//Event Calendar 2.0//EN
METHOD:PUBLISH
X-PUBLISHED-TTL:P3D
REFRESH-INTERVAL:P3D
CALSCALE:GREGORIAN
BEGIN:VEVENT
DTSTART:20170420T230000Z
DTEND:20170421T013000Z
X-MICROSOFT-CDO-ALLDAYEVENT:FALSE
SUMMARY:The Music Hall Historic Theater presents "Hidden Figures"
DESCRIPTION:Oscar nominated for Best Picture\, Best Actress (Octavia Spencer) and Best Screenplay. The incredible untold story of Katherine G. Johnson (Taraji P. Henson)\, Dorothy Vaughan (Octavia Spencer) and Mary Jackson (Janelle Mon e) - brilliant African-American women working at NASA\, who served as the brains behind one of the greatest operations in history: the launch of astronaut John Glenn into orbit.
X-ALT-DESC;FMTTYPE=text/html:Oscar nominated for Best Picture\, Best Actress (Octavia Spencer) and Best Screenplay. The incredible untold story of Katherine G. Johnson (Taraji P. Henson)\, Dorothy Vaughan (Octavia Spencer) and Mary Jackson (Janelle Mon&aacute\;e) - brilliant African-American women working at NASA\, who served as the brains behind one of the greatest operations in history: the launch of astronaut John Glenn into orbit.
LOCATION:The Historic Theater 28 Chestnut Street Portsmouth\, NH
UID:e.1659.30244
SEQUENCE:3
DTSTAMP:20260421T132119Z
URL:https://business.portsmouthchamber.org/events/details/the-music-hall-historic-theater-presents-hidden-figures-30244
END:VEVENT

END:VCALENDAR
