BEGIN:VCALENDAR
VERSION:2.0
PRODID:-//ChamberMaster//Event Calendar 2.0//EN
METHOD:PUBLISH
X-PUBLISHED-TTL:P3D
REFRESH-INTERVAL:P3D
CALSCALE:GREGORIAN
BEGIN:VEVENT
DTSTART:20170401T230000Z
DTEND:20170402T013000Z
X-MICROSOFT-CDO-ALLDAYEVENT:FALSE
SUMMARY:The Music Hall Historic Theater presents ''La La Land''
DESCRIPTION:Beloved opening night film of Telluride By The Sea 2016. Winner of six Oscars including 'Best Actress' and 'Best Director.' Emma Stone and Ryan Gosling star in Damien Chazelle's original musical love story and homage to early Hollywood musicals.
X-ALT-DESC;FMTTYPE=text/html:Beloved opening night film of Telluride By The Sea 2016. Winner of six Oscars including &lsquo\;Best Actress&rsquo\; and &lsquo\;Best Director.&rsquo\; Emma Stone and Ryan Gosling star in Damien Chazelle&rsquo\;s original musical love story and homage to early Hollywood musicals.
LOCATION:The Historic Theater 28 Chestnut Street Portsmouth\, NH
UID:e.1659.30237
SEQUENCE:3
DTSTAMP:20260421T132348Z
URL:https://business.portsmouthchamber.org/events/details/the-music-hall-historic-theater-presents-la-la-land-04-01-2017-30237
END:VEVENT

END:VCALENDAR
