BEGIN:VCALENDAR
VERSION:2.0
PRODID:-//ChamberMaster//Event Calendar 2.0//EN
METHOD:PUBLISH
X-PUBLISHED-TTL:P3D
REFRESH-INTERVAL:P3D
CALSCALE:GREGORIAN
BEGIN:VEVENT
DTSTART:20170520T163000Z
DTEND:20170520T183000Z
X-MICROSOFT-CDO-ALLDAYEVENT:FALSE
SUMMARY:The Music Hall Historic Theater presents Met at the Musical featuring Der Rosenkavalier (R. Strauss)
DESCRIPTION:HD broadcasts filmed live and streamed direct from Lincoln Center. The Met's first new production since 1969 of Strauss's rich romantic masterpiece is conducted by Sebastian Weigle and directed by Robert Carsen\, whose most recent Met production was the hit 2013 staging of Falstaff. Ren e Fleming sings one of her signature roles as the Marschallin\, opposite El na Garan a in her first North American performances as Octavian\, the impulsive young title character. The cast also includes G nther Groissb ck as Baron Ochs\, Erin Morley as Sophie\, Marcus Br ck in his Met debut as Faninal\, and Matthew Polenzani as the Italian Singer. Der Rosenkavalier is a co-production with the Royal Opera House\, Covent Garden\, and Teatro Regio di Torino.\n\n\n\nApproximate HD runtime: 4h 50m
X-ALT-DESC;FMTTYPE=text/html:HD broadcasts filmed live and streamed direct from Lincoln Center. The Met&rsquo\;s first new production since 1969 of Strauss&rsquo\;s rich romantic masterpiece is conducted by Sebastian Weigle and directed by Robert Carsen\, whose most recent Met production was the hit 2013 staging of Falstaff. Ren&eacute\;e Fleming sings one of her signature roles as the Marschallin\, opposite El&#299\;na Garan&#269\;a in her first North American performances as Octavian\, the impulsive young title character. The cast also includes G&uuml\;nther Groissb&ouml\;ck as Baron Ochs\, Erin Morley as Sophie\, Marcus Br&uuml\;ck in his Met debut as Faninal\, and Matthew Polenzani as the Italian Singer. Der Rosenkavalier is a co-production with the Royal Opera House\, Covent Garden\, and Teatro Regio di Torino.<br />\n<br />\nApproximate HD runtime: 4h 50m
LOCATION:The Historic Theater 28 Chestnut Street Portsmouth\, NH
UID:e.1659.30301
SEQUENCE:3
DTSTAMP:20260421T121816Z
URL:https://business.portsmouthchamber.org/events/details/the-music-hall-historic-theater-presents-met-at-the-musical-featuring-der-rosenkavalier-r-strauss-30301
END:VEVENT

END:VCALENDAR
