BEGIN:VCALENDAR
VERSION:2.0
PRODID:-//ChamberMaster//Event Calendar 2.0//EN
METHOD:PUBLISH
X-PUBLISHED-TTL:P3D
REFRESH-INTERVAL:P3D
CALSCALE:GREGORIAN
BEGIN:VEVENT
DTSTART:20170422T000000Z
DTEND:20170422T020000Z
X-MICROSOFT-CDO-ALLDAYEVENT:FALSE
SUMMARY:The Music Hall Historic Theater presents "Vaud & The Villains"
DESCRIPTION:The 18-piece 1930s New Orleans orchestra and cabaret show returns to The Music Hall! With echoes of Bruce Springsteen's Seeger Band\, they mine the rich soil of the American songbook- roots\, traditional jazz\, revival music\, parlor music\, gospel\, zydeco\, folk but they are more than a genre bending musical/concert haymaker punch. It is at once seedy and inspiring\, gritty and sublime. The cabaret combines the elegance of Weimar era Berlin with the arresting sultriness of Moulin Rouge.
X-ALT-DESC;FMTTYPE=text/html:The 18-piece 1930s New Orleans orchestra and cabaret show returns to The Music Hall! With echoes of Bruce Springsteen&rsquo\;s Seeger Band\, they mine the rich soil of the American songbook- roots\, traditional jazz\, revival music\, parlor music\, gospel\, zydeco\, folk&hellip\;but they are more than a genre bending musical/concert haymaker punch. It is at once seedy and inspiring\, gritty and sublime. The cabaret combines the elegance of Weimar era Berlin with the arresting sultriness of Moulin Rouge.
LOCATION:The Historic Theater 28 Chestnut Street Portsmouth\, NH
UID:e.1659.30258
SEQUENCE:3
DTSTAMP:20260421T132526Z
URL:https://business.portsmouthchamber.org/events/details/the-music-hall-historic-theater-presents-vaud-the-villains-30258
END:VEVENT

END:VCALENDAR
