BEGIN:VCALENDAR
VERSION:2.0
PRODID:-//ChamberMaster//Event Calendar 2.0//EN
METHOD:PUBLISH
X-PUBLISHED-TTL:P3D
REFRESH-INTERVAL:P3D
CALSCALE:GREGORIAN
BEGIN:VEVENT
DTSTART:20170429T200000Z
DTEND:20170429T220000Z
X-MICROSOFT-CDO-ALLDAYEVENT:FALSE
SUMMARY:The Music Hall Historic Theater presents Writers on a New England Stage featuring Anthony Doerr
DESCRIPTION:Don't miss this evening with the Pulitzer Prize-winning author of All The Light We Cannot See\, whose unforgettable novel was New York Times Book Review Top Ten Book\, National Book Award finalist\, and a fixture on the New York Times bestseller list for more than two and a half years! \n\n\n\nThe stunningly beautiful instant New York Times bestseller\, All The Light We Cannot See\, follows a blind French girl and a German boy whose paths collide in occupied France as both try to survive the devastation of World War II.
X-ALT-DESC;FMTTYPE=text/html:Don&rsquo\;t miss this evening with the Pulitzer Prize-winning author of All The Light We Cannot See\, whose unforgettable novel was New York Times Book Review Top Ten Book\, National Book Award finalist\, and a fixture on the New York Times bestseller list for more than two and a half years!&nbsp\;<br />\n<br />\nThe stunningly beautiful instant New York Times bestseller\, All The Light We Cannot See\, follows a blind French girl and a German boy whose paths collide in occupied France as both try to survive the devastation of World War II.
LOCATION:The Historic Theater 28 Chestnut Street Portsmouth\, NH
UID:e.1659.30291
SEQUENCE:3
DTSTAMP:20260421T132301Z
URL:https://business.portsmouthchamber.org/events/details/the-music-hall-historic-theater-presents-writers-on-a-new-england-stage-featuring-anthony-doerr-30291
END:VEVENT

END:VCALENDAR
