BEGIN:VCALENDAR
VERSION:2.0
PRODID:-//ChamberMaster//Event Calendar 2.0//EN
METHOD:PUBLISH
X-PUBLISHED-TTL:P3D
REFRESH-INTERVAL:P3D
CALSCALE:GREGORIAN
BEGIN:VEVENT
DTSTART:20170502T230000Z
DTEND:20170503T010000Z
X-MICROSOFT-CDO-ALLDAYEVENT:FALSE
SUMMARY:The Music Hall Historic Theater presents Writers on a New England Stage featuring Diane Rehm
DESCRIPTION:Beloved NPR radio host Diane Rehm visits with her eloquent\, deeply personal and moving book\, On My Own\, about the death of her husband\, the struggle to reconstruct her life\, and her new mission advocating for increased conversation about end-of-life care and the right to die on one's own terms.
X-ALT-DESC;FMTTYPE=text/html:Beloved NPR radio host Diane Rehm visits with her eloquent\, deeply personal and moving book\, On My Own\, about the death of her husband\, the struggle to reconstruct her life\, and her new mission advocating for increased conversation about end-of-life care and the right to die on one&rsquo\;s own terms.&nbsp\;
LOCATION:The Historic Theater 28 Chestnut Street Portsmouth\, NH
UID:e.1659.30294
SEQUENCE:3
DTSTAMP:20260421T121759Z
URL:https://business.portsmouthchamber.org/events/details/the-music-hall-historic-theater-presents-writers-on-a-new-england-stage-featuring-diane-rehm-30294
END:VEVENT

END:VCALENDAR
