BEGIN:VCALENDAR
VERSION:2.0
PRODID:-//ChamberMaster//Event Calendar 2.0//EN
METHOD:PUBLISH
X-PUBLISHED-TTL:P3D
REFRESH-INTERVAL:P3D
CALSCALE:GREGORIAN
BEGIN:VEVENT
DTSTART:20161113T000000Z
DTEND:20161113T020000Z
X-MICROSOFT-CDO-ALLDAYEVENT:FALSE
SUMMARY:The Music Hall Historic Theater: Sully
DESCRIPTION:Tom Hanks stars in this thrilling portrait of heroic airline pilot Chesley "Sully" Sullenberger\, re-enacting his incredible successful emergency landing of an Airbus A320 full of passengers on the Hudson River. Also stars Laura Linney and Aaron Eckhart. Directed by Clint Eastwood.
X-ALT-DESC;FMTTYPE=text/html:Tom Hanks stars in this thrilling portrait of heroic airline pilot Chesley &ldquo\;Sully&rdquo\; Sullenberger\, re-enacting his incredible successful emergency landing of an Airbus A320 full of passengers on the Hudson River. Also stars Laura Linney and Aaron Eckhart. Directed by Clint Eastwood.
LOCATION:The Historic Theater 28 Chestnut Street Portsmouth\, NH 03801
UID:e.1659.27923
SEQUENCE:3
DTSTAMP:20260421T212738Z
URL:https://business.portsmouthchamber.org/events/details/the-music-hall-historic-theater-sully-27923
END:VEVENT

END:VCALENDAR
