BEGIN:VCALENDAR
VERSION:2.0
PRODID:-//ChamberMaster//Event Calendar 2.0//EN
METHOD:PUBLISH
X-PUBLISHED-TTL:P3D
REFRESH-INTERVAL:P3D
CALSCALE:GREGORIAN
BEGIN:VEVENT
DTSTART:20161104T230000Z
DTEND:20161105T010000Z
X-MICROSOFT-CDO-ALLDAYEVENT:FALSE
SUMMARY:The Music Hall Historic Theater: Tight Loose- A Ski and Snowboard Film
DESCRIPTION:Teton Gravity Research is returning to The Music Hall for the winter kick-off party of the year. Join us to celebrate TGR's 21st birthday with the one-night only premiere of their new feature length ski and snowboard film\, Tight Loose. As always\, there will be a ton of prize giveaways\, plus TGR's new movie as it was meant to be seen\, on the big screen.\n\n\n\nAbout the film: From India to Alaska\, come join TGR as we discover unridden spine walls\, massive airs\, and full throttle riding in some of the wildest and most spectacular places on earth. Witness the 21-year athlete roster as they come together for a reunion-style massive group shred of the Palisades at Squaw Valley. Tight Loose is living to the fullest!
X-ALT-DESC;FMTTYPE=text/html:Teton Gravity Research is returning to The Music Hall for the winter kick-off party of the year. Join us to celebrate TGR&rsquo\;s 21st birthday with the one-night only premiere of their new feature length ski and snowboard film\, Tight Loose. As always\, there will be a ton of prize giveaways\, plus TGR&rsquo\;s new movie as it was meant to be seen\, on the big screen.<br />\n<br />\nAbout the film: From India to Alaska\, come join TGR as we discover unridden spine walls\, massive airs\, and full throttle riding in some of the wildest and most spectacular places on earth. Witness the 21-year athlete roster as they come together for a reunion-style massive group shred of the Palisades at Squaw Valley. Tight Loose is living to the fullest!
LOCATION:The Historic Theater 28 Chestnut Street Portsmouth\, NH 03801
UID:e.1659.27913
SEQUENCE:3
DTSTAMP:20260421T213518Z
URL:https://business.portsmouthchamber.org/events/details/the-music-hall-historic-theater-tight-loose-a-ski-and-snowboard-film-27913
END:VEVENT

END:VCALENDAR
