BEGIN:VCALENDAR
VERSION:2.0
PRODID:-//ChamberMaster//Event Calendar 2.0//EN
METHOD:PUBLISH
X-PUBLISHED-TTL:P3D
REFRESH-INTERVAL:P3D
CALSCALE:GREGORIAN
BEGIN:VEVENT
DTSTART:20161029T160000Z
DTEND:20161029T180000Z
X-MICROSOFT-CDO-ALLDAYEVENT:FALSE
SUMMARY:The Music Hall Historic Theater: USA Yoga Regional Qualifier
DESCRIPTION:Regional qualifier for the USA Yoga National Championship. Individuals from all over New England will demonstrate the grace and potential of the human body in men's\, women's\, senior's and youth divisions.
X-ALT-DESC;FMTTYPE=text/html:Regional qualifier for the USA Yoga National Championship. Individuals from all over New England will demonstrate the grace and potential of the human body in men&rsquo\;s\, women&rsquo\;s\, senior&rsquo\;s and youth divisions.
LOCATION:The Historic Theater 28 Chestnut Street Portsmouth\, NH 03801
UID:e.1659.27911
SEQUENCE:3
DTSTAMP:20260421T225723Z
URL:https://business.portsmouthchamber.org/events/details/the-music-hall-historic-theater-usa-yoga-regional-qualifier-27911
END:VEVENT

END:VCALENDAR
