BEGIN:VCALENDAR
VERSION:2.0
PRODID:-//ChamberMaster//Event Calendar 2.0//EN
METHOD:PUBLISH
X-PUBLISHED-TTL:P3D
REFRESH-INTERVAL:P3D
CALSCALE:GREGORIAN
BEGIN:VEVENT
DTSTART:20170429T230000Z
DTEND:20170430T010000Z
X-MICROSOFT-CDO-ALLDAYEVENT:FALSE
SUMMARY:The Music Hall Historic Theater welcomes Kathy Griffin
DESCRIPTION:From penning New York Times bestselling books to filling the country's biggest concert halls on her comedy tours\, Griffin has cemented herself as one of the most powerful figures in comedy. Unfiltered\, unafraid\, and utterly hilarious - she is a must-see for any stand-up fan.\n\n\n\nThis two-time Emmy and Grammy Award-winning comedian is a towering figure on television\, on tour and in publishing. She breaks through the entertainment clutter with her universally recognized brand of pull-no-punches comedy.\n\n\n\nKathy is touring in support of her recently released   and much anticipated   second book\, Kathy Griffin's Celebrity Run-Ins: My A-Z Index. The book is an A-Z compendium of the celebrities she's met over the years and the outrageous\, charming and sometimes-bizarre anecdotes only she can tell about them.\n\n\n\n2016's Like A Boss Tour stopped in 80 cities from coast to coast including a four-night run at the famed Mark Taper Forum in Los Angeles\, CA\, and two sold out performances at the illustrious Kennedy Center in Washington\, D.C. and the iconic Carnegie Hall in New York City. She joins us in Portsmouth for one night only!
X-ALT-DESC;FMTTYPE=text/html:From penning New York Times bestselling books to filling the country&rsquo\;s biggest concert halls on her comedy tours\, Griffin has cemented herself as one of the most powerful figures in comedy. Unfiltered\, unafraid\, and utterly hilarious - she is a must-see for any stand-up fan.<br />\n<br />\nThis two-time Emmy and Grammy Award-winning comedian is a towering figure on television\, on tour and in publishing. She breaks through the entertainment clutter with her universally recognized brand of pull-no-punches comedy.<br />\n<br />\nKathy is touring in support of her recently released &ndash\; and much anticipated &ndash\; second book\, Kathy Griffin&rsquo\;s Celebrity Run-Ins: My A-Z Index. The book is an A-Z compendium of the celebrities she&rsquo\;s met over the years and the outrageous\, charming and sometimes-bizarre anecdotes only she can tell about them.<br />\n<br />\n2016&rsquo\;s Like A Boss Tour stopped in 80 cities from coast to coast including a four-night run at the famed Mark Taper Forum in Los Angeles\, CA\, and two sold out performances at the illustrious Kennedy Center in Washington\, D.C. and the iconic Carnegie Hall in New York City. She joins us in Portsmouth for one night only!
LOCATION:The Historic Theater 28 Chestnut Street Portsmouth\, NH
UID:e.1659.30264
SEQUENCE:3
DTSTAMP:20260421T132346Z
URL:https://business.portsmouthchamber.org/events/details/the-music-hall-historic-theater-welcomes-kathy-griffin-30264
END:VEVENT

END:VCALENDAR
