BEGIN:VCALENDAR
VERSION:2.0
PRODID:-//ChamberMaster//Event Calendar 2.0//EN
METHOD:PUBLISH
X-PUBLISHED-TTL:P3D
REFRESH-INTERVAL:P3D
CALSCALE:GREGORIAN
BEGIN:VEVENT
DTSTART;VALUE=DATE:20161101
DTEND;VALUE=DATE:20161102
TRANSP:TRANSPARENT
X-MICROSOFT-CDO-ALLDAYEVENT:TRUE
SUMMARY:The Music Hall: Historic Tours
DESCRIPTION:Join us at The Music Hall for a one-hour tour through the Historic Theater. Hear the backstories of our American Treasure\, from its connection to the Portsmouth Naval Shipyard (including how it inspired an Indigo Girls song)\, to the role The Music Hall played in helping families manage under strict food rationing during WWII. You'll get an upfront look at the restorations and renovations that allow our 1878 theater to thrive well into the digital age without losing its historic charm.
X-ALT-DESC;FMTTYPE=text/html:Join us at The Music Hall for a one-hour tour through the Historic Theater. Hear the backstories of our American Treasure\, from its connection to the Portsmouth Naval Shipyard (including how it inspired an Indigo Girls song)\, to the role The Music Hall played in helping families manage under strict food rationing during WWII. You&rsquo\;ll get an upfront look at the restorations and renovations that allow our 1878 theater to thrive well into the digital age without losing its historic charm.
LOCATION:The Historic Theater 28 Chestnut Street Portsmouth\, NH 03801
UID:e.1659.25851
SEQUENCE:3
DTSTAMP:20260421T212840Z
URL:https://business.portsmouthchamber.org/events/details/the-music-hall-historic-tours-11-01-2016-25851
END:VEVENT

END:VCALENDAR
