BEGIN:VCALENDAR
VERSION:2.0
PRODID:-//ChamberMaster//Event Calendar 2.0//EN
METHOD:PUBLISH
X-PUBLISHED-TTL:P3D
REFRESH-INTERVAL:P3D
CALSCALE:GREGORIAN
BEGIN:VEVENT
DTSTART:20211204T190000Z
DTEND:20211204T220000Z
X-MICROSOFT-CDO-ALLDAYEVENT:FALSE
SUMMARY:The Music Hall: Intimately Yours: Michael Feinstein
DESCRIPTION:Join Michael and his band as they bring you Home for the Holidays. This show will feature favorites that are sure to put you in the Yuletide spirit! You can also expect to hear classics by Gershwin and Cole Porter\, as well as other seasonal surprises performed as only Michael can.
X-ALT-DESC;FMTTYPE=text/html:<span style="color: rgb(72\, 72\, 72)\; font-family: minion-pro\, sans-serif\; font-size: 18px\;">Join Michael and his band as they bring you Home for the Holidays. This show will feature&nbsp\;favorites&nbsp\;that are sure to put you in the Yuletide spirit! You can also expect&nbsp\;to hear classics by Gershwin&nbsp\;and&nbsp\;Cole Porter\, as well as other seasonal surprises performed as only Michael can.</span>
LOCATION:The Historic Theater 28 Chestnut Street Portsmouth\, NH 0380
UID:e.1659.56896
SEQUENCE:3
DTSTAMP:20260425T112506Z
URL:https://business.portsmouthchamber.org/events/details/the-music-hall-intimately-yours-michael-feinstein-56896
END:VEVENT

END:VCALENDAR
