BEGIN:VCALENDAR
VERSION:2.0
PRODID:-//ChamberMaster//Event Calendar 2.0//EN
METHOD:PUBLISH
X-PUBLISHED-TTL:P3D
REFRESH-INTERVAL:P3D
CALSCALE:GREGORIAN
BEGIN:VEVENT
DTSTART:20170513T140000Z
DTEND:20170513T140000Z
X-MICROSOFT-CDO-ALLDAYEVENT:FALSE
SUMMARY:The Music Hall is proud to present its 26th Annual Kitchen Tour
DESCRIPTION:The Music Hall is proud to present its 26th Annual Kitchen Tour\, this year set in the heart of Portsmouth's Little Harbor neighborhood. Take a stroll and admire the contemporary and vintage styles created by top designers and builders in the Seacoast. With coastal influences and historic flourishes\, this year's Kitchen Tour features breathtaking kitchens of all shapes and sizes. This is the tour for people thinking about renovation or just curious about dream kitchens. It's the perfect get-together for Mother's Day weekend!\n\n\n\nThis is a self-guided walking tour with an easy-to-follow map that allows you to start and finish at any house you'd like. If you are looking to turn your own kitchen dreams into reality\, the craftsmen\, artisans\, designers\, and architects involved in the kitchens are identified in the tour's guidebook.\n\n\n\nGET A SNEAK PEEK OF SOME OF THE KITCHENS\n\n54 Lincoln Ave\n\nHELPFUL HINTS\n\nThis is a walking tour\, make sure to wear comfortable shoes.\n\n Plan your route. Start at any home location\, not just at Home #1.\n\nLeave time for lunch at one of the great downtown restaurants. Reservations recommended.\n\nPick up a Kitchen Tour Cookbook at the B2W Box Office at The Music Hall's Historic Theater.\n\nWHAT TO BRING ON THE DAY OF THE TOUR\n\nKitchen Tour happens rain or shine! Pack a jacket\, bring an umbrella\, and don't forget the sunscreen.\n\n\n\nSUGGESTED FOOTWEAR\n\nThanks to the generosity of York Hospital\, every attendee will be supplied with a pair of booties for the day. Please note that outside footwear and bare feet are not permitted inside the homes. Comfortable walking shoes that are easy to slip on and off are recommended.\n\n\n\nPARKING\n\nVisit The City of Portsmouth's suggested public parking page to make your parking plans for the day. While visiting the homes on the tour\, please respect any requests or regulations made by The City of Portsmouth\, our generous homeowners\, and the Kitchen Tour staff regarding parking guidelines\, as well as our "hands off" and no photography policies.\n\n\n\nDAY OF TICKET PURCHASES & RESTROOMS\n\nDuring your tour\, be sure to visit The Music Hall at 28 Chestnut St. Here you can purchase tickets\, pick up maps\, and use the award-winning restrooms. Copies of the 25th Anniversary Kitchen Tour Cookbook are also available to purchase here.\n\n\n\nFOOD & PROVISIONS\n\nBe sure to visit the many local businesses in downtown Portsmouth who support the Kitchen Tour and are featured on our Kitchen Tour Map. With so many unique restaurants and cafes located downtown\, there's sure to be something for you.\n\n\n\nA NOTE ON HANDICAP ACCESSIBILITY\n\nPlease note that due to the locations of homes\, not all homes are handicap accessible. This tour is not recommended for guests who use wheelchairs. Please be warned that home entrances and exits may require the climbing of stairs.
X-ALT-DESC;FMTTYPE=text/html:The Music Hall is proud to present its 26th Annual Kitchen Tour\, this year set in the heart of Portsmouth&rsquo\;s Little Harbor neighborhood. Take a stroll and admire the contemporary and vintage styles created by top designers and builders in the Seacoast. With coastal influences and historic flourishes\, this year&rsquo\;s Kitchen Tour features breathtaking kitchens of all shapes and sizes. This is the tour for people thinking about renovation or just curious about dream kitchens. It&rsquo\;s the perfect get-together for Mother&rsquo\;s Day weekend!<br />\n<br />\nThis is a self-guided walking tour with an easy-to-follow map that allows you to start and finish at any house you&rsquo\;d like. If you are looking to turn your own kitchen dreams into reality\, the craftsmen\, artisans\, designers\, and architects involved in the kitchens are identified in the tour&rsquo\;s guidebook.<br />\n<br />\nGET A SNEAK PEEK OF SOME OF THE KITCHENS<br />\n54 Lincoln Ave<br />\nHELPFUL HINTS<br />\nThis is a walking tour\, make sure to wear comfortable shoes.<br />\n&#8203\;Plan your route. Start at any home location\, not just at Home #1.<br />\nLeave time for lunch at one of the great downtown restaurants. Reservations recommended.<br />\nPick up a Kitchen Tour Cookbook at the B2W Box Office at The Music Hall&rsquo\;s Historic Theater.<br />\nWHAT TO BRING ON THE DAY OF THE TOUR<br />\nKitchen Tour happens rain or shine! Pack a jacket\, bring an umbrella\, and don&rsquo\;t forget the sunscreen.<br />\n<br />\nSUGGESTED FOOTWEAR<br />\nThanks to the generosity of York Hospital\, every attendee will be supplied with a pair of booties for the day. Please note that outside footwear and bare feet are not permitted inside the homes. Comfortable walking shoes that are easy to slip on and off are recommended.<br />\n<br />\nPARKING<br />\nVisit The City of Portsmouth&rsquo\;s suggested public parking page to make your parking plans for the day. While visiting the homes on the tour\, please respect any requests or regulations made by The City of Portsmouth\, our generous homeowners\, and the Kitchen Tour staff regarding parking guidelines\, as well as our &ldquo\;hands off&rdquo\; and no photography policies.<br />\n<br />\nDAY OF TICKET PURCHASES &amp\; RESTROOMS<br />\nDuring your tour\, be sure to visit The Music Hall at 28 Chestnut St. Here you can purchase tickets\, pick up maps\, and use the award-winning restrooms. Copies of the 25th Anniversary Kitchen Tour Cookbook are also available to purchase here.<br />\n<br />\nFOOD &amp\; PROVISIONS<br />\nBe sure to visit the many local businesses in downtown Portsmouth who support the Kitchen Tour and are featured on our Kitchen Tour Map. With so many unique restaurants and cafes located downtown\, there&rsquo\;s sure to be something for you.<br />\n<br />\nA NOTE ON HANDICAP ACCESSIBILITY<br />\nPlease note that due to the locations of homes\, not all homes are handicap accessible. This tour is not recommended for guests who use wheelchairs. Please be warned that home entrances and exits may require the climbing of stairs.
LOCATION:The Historic Theater 28 Chestnut Street Portsmouth\, NH
UID:e.1659.30298
SEQUENCE:3
DTSTAMP:20260421T131953Z
URL:https://business.portsmouthchamber.org/events/details/the-music-hall-is-proud-to-present-its-26th-annual-kitchen-tour-30298
END:VEVENT

END:VCALENDAR
