BEGIN:VCALENDAR
VERSION:2.0
PRODID:-//ChamberMaster//Event Calendar 2.0//EN
METHOD:PUBLISH
X-PUBLISHED-TTL:P3D
REFRESH-INTERVAL:P3D
CALSCALE:GREGORIAN
BEGIN:VEVENT
DTSTART:20161113T010000Z
DTEND:20161113T030000Z
X-MICROSOFT-CDO-ALLDAYEVENT:FALSE
SUMMARY:The Music Hall Loft: Ben Sollee
DESCRIPTION:Ben Sollee\, an American cellist\, singer-songwriter\, and composer known for his innovative playing style\, genre-bending songwriting\, electrifying performances\, political activism\, and wide appeal\, makes his return to the Loft. With a style that incorporates banjo\, guitar\, and mandolin along with percussion and unusual cello techniques he creates a unique sound\, that creates songs that have a mix of folk\, bluegrass\, jazz\, and R&B elements.
X-ALT-DESC;FMTTYPE=text/html:Ben Sollee\, an American cellist\, singer-songwriter\, and composer known for his innovative playing style\, genre-bending songwriting\, electrifying performances\, political activism\, and wide appeal\, makes his return to the Loft. With a style that incorporates banjo\, guitar\, and mandolin along with percussion and unusual cello techniques he creates a unique sound\, that creates songs that have a mix of folk\, bluegrass\, jazz\, and R&amp\;B elements.
LOCATION:The Music Hall Loft 131 Congress Street Portsmouth\, NH 03801
UID:e.1659.27927
SEQUENCE:3
DTSTAMP:20260421T210550Z
URL:https://business.portsmouthchamber.org/events/details/the-music-hall-loft-ben-sollee-27927
END:VEVENT

END:VCALENDAR
