BEGIN:VCALENDAR
VERSION:2.0
PRODID:-//ChamberMaster//Event Calendar 2.0//EN
METHOD:PUBLISH
X-PUBLISHED-TTL:P3D
REFRESH-INTERVAL:P3D
CALSCALE:GREGORIAN
BEGIN:VEVENT
DTSTART:20161106T000000Z
DTEND:20161106T020000Z
X-MICROSOFT-CDO-ALLDAYEVENT:FALSE
SUMMARY:The Music Hall Loft: Caravan of Theieves
DESCRIPTION:Driving gypsy jazz rhythms\, acoustic guitars\, upright bass and violin lay the foundation for mesmerizing vocal harmonies and fantastic stories. It's theatrical and humorous. It's musical and intense. It entertains\, dazzles and defies classification while welcoming the spectator to join the band throughout the performance in momentary fits of claps\, snaps and sing-alongs. If Django Reinhardt\, the cast of Stomp\, and The Beatles all had a party at Tim Burton's house\, Caravan of Thieves would be the band they hired.
X-ALT-DESC;FMTTYPE=text/html:Driving gypsy jazz rhythms\, acoustic guitars\, upright bass and violin lay the foundation for mesmerizing vocal harmonies and fantastic stories. It&rsquo\;s theatrical and humorous. It&rsquo\;s musical and intense. It entertains\, dazzles and defies classification while welcoming the spectator to join the band throughout the performance in momentary fits of claps\, snaps and sing-alongs. If Django Reinhardt\, the cast of Stomp\, and The Beatles all had a party at Tim Burton&rsquo\;s house\, Caravan of Thieves would be the band they hired.
LOCATION:The Music Hall Loft 131 Congress Street Portsmouth\, NH 03801
UID:e.1659.27915
SEQUENCE:3
DTSTAMP:20260421T225534Z
URL:https://business.portsmouthchamber.org/events/details/the-music-hall-loft-caravan-of-theieves-27915
END:VEVENT

END:VCALENDAR
