BEGIN:VCALENDAR
VERSION:2.0
PRODID:-//ChamberMaster//Event Calendar 2.0//EN
METHOD:PUBLISH
X-PUBLISHED-TTL:P3D
REFRESH-INTERVAL:P3D
CALSCALE:GREGORIAN
BEGIN:VEVENT
DTSTART:20170330T230000Z
DTEND:20170331T010000Z
X-MICROSOFT-CDO-ALLDAYEVENT:FALSE
SUMMARY:The Music Hall Loft features: Kedi
DESCRIPTION:Kedi is not a documentary about house cats or the strays you occasionally see in your backyard. It is a film about the hundreds of thousands of cats who have roamed the metropolis of Istanbul freely for thousands of years\, wandering in and out of people's lives\, impacting them in ways only an animal who lives between the worlds of the wild and the tamed can. Cats and their kittens bring joy and purpose to those they choose\, giving people an opportunity to reflect on life and their place in it. In Istanbul\, cats are the
X-ALT-DESC;FMTTYPE=text/html:Kedi is not a documentary about house cats or the strays you occasionally see in your backyard. It is a film about the hundreds of thousands of cats who have roamed the metropolis of Istanbul freely for thousands of years\, wandering in and out of people&rsquo\;s lives\, impacting them in ways only an animal who lives between the worlds of the wild and the tamed can. Cats and their kittens bring joy and purpose to those they choose\, giving people an opportunity to reflect on life and their place in it. In Istanbul\, cats are the&nbsp\;
LOCATION:The Music Hall Loft 131 Congress Street Portsmouth\, NH
UID:e.1659.30232
SEQUENCE:3
DTSTAMP:20260421T145859Z
URL:https://business.portsmouthchamber.org/events/details/the-music-hall-loft-features-kedi-30232
END:VEVENT

END:VCALENDAR
