BEGIN:VCALENDAR
VERSION:2.0
PRODID:-//ChamberMaster//Event Calendar 2.0//EN
METHOD:PUBLISH
X-PUBLISHED-TTL:P3D
REFRESH-INTERVAL:P3D
CALSCALE:GREGORIAN
BEGIN:VEVENT
DTSTART:20170527T170000Z
DTEND:20170527T190000Z
X-MICROSOFT-CDO-ALLDAYEVENT:FALSE
SUMMARY:The Music Hall Loft features: Obsession
DESCRIPTION:Jude Law (The Young Pope\, Closer\, The Talented Mr. Ripley) stars in the stage production of Obsession\, broadcast live from the Barbican Theatre in London. Ivo van Hove (NT Live: A View from the Bridge\, Hedda Gabler) directs this new stage adaptation of Luchino Visconti's 1943 film.\n\n\n\nGino is a drifter\, down-at-heel and magnetically handsome. At a road side restaurant he encounters husband and wife\, Giuseppe and Giovanna. Irresistibly attracted to each other\, Gino and Giovanna begin a fiery affair and plot to murder her husband. But\, in this chilling tale of passion and destruction\, the crime only serves to tear them apart.\n\n\n\nThe stage production of Obsession is produced by Barbican Theatre Productions Limited\, London and Toneelgroep Amsterdam\; co-commissioned by Wiener Festwochen and Les Th  tres de la Ville de Luxembourg\; co-produced by Holland Festival and David Binder Productions\; and supported by the Embassy of the Kingdom of the Netherlands.\n\n\n\nRunning time: approx. 120 minutes\n\nRecommended ages 17+'
X-ALT-DESC;FMTTYPE=text/html:Jude Law (The Young Pope\, Closer\, The Talented Mr. Ripley) stars in the stage production of Obsession\, broadcast live from the Barbican Theatre in London. Ivo van Hove (NT Live: A View from the Bridge\, Hedda Gabler) directs this new stage adaptation of Luchino Visconti&rsquo\;s 1943 film.<br />\n<br />\nGino is a drifter\, down-at-heel and magnetically handsome. At a road side restaurant he encounters husband and wife\, Giuseppe and Giovanna. Irresistibly attracted to each other\, Gino and Giovanna begin a fiery affair and plot to murder her husband. But\, in this chilling tale of passion and destruction\, the crime only serves to tear them apart.<br />\n<br />\nThe stage production of Obsession is produced by Barbican Theatre Productions Limited\, London and Toneelgroep Amsterdam\; co-commissioned by Wiener Festwochen and Les Th&eacute\;&acirc\;tres de la Ville de Luxembourg\; co-produced by Holland Festival and David Binder Productions\; and supported by the Embassy of the Kingdom of the Netherlands.<br />\n<br />\nRunning time: approx. 120 minutes<br />\nRecommended ages 17+&rsquo\;
LOCATION:The Music Hall Loft 131 Congress Street Portsmouth\, NH
UID:e.1659.30306
SEQUENCE:3
DTSTAMP:20260421T115211Z
URL:https://business.portsmouthchamber.org/events/details/the-music-hall-loft-features-obsession-30306
END:VEVENT

END:VCALENDAR
