BEGIN:VCALENDAR
VERSION:2.0
PRODID:-//ChamberMaster//Event Calendar 2.0//EN
METHOD:PUBLISH
X-PUBLISHED-TTL:P3D
REFRESH-INTERVAL:P3D
CALSCALE:GREGORIAN
BEGIN:VEVENT
DTSTART:20170419T223000Z
DTEND:20170419T223000Z
X-MICROSOFT-CDO-ALLDAYEVENT:FALSE
SUMMARY:The Music Hall Loft features Writers in the Loft with Elizabeth Kostova
DESCRIPTION:The #1 New York Times bestselling author of The Historian  (3 million copies sold\, in 40 languages) joins us with her new novel. Blending history and the present in a suspenseful journey that spans three generations\, THE SHADOW LAND reveals the dark secrets of a family's and a nation's history.
X-ALT-DESC;FMTTYPE=text/html:The #1 New York Times bestselling author of The Historian &nbsp\;(3 million copies sold\, in 40 languages) joins us with her new novel. Blending history and the present in a suspenseful journey that spans three generations\, THE SHADOW LAND reveals the dark secrets of a family&rsquo\;s&mdash\;and a nation&rsquo\;s&mdash\;history.
LOCATION:The Music Hall Loft 131 Congress Street Portsmouth\, NH
UID:e.1659.30246
SEQUENCE:3
DTSTAMP:20260421T132122Z
URL:https://business.portsmouthchamber.org/events/details/the-music-hall-loft-features-writers-in-the-loft-with-elizabeth-kostova-30246
END:VEVENT

END:VCALENDAR
