BEGIN:VCALENDAR
VERSION:2.0
PRODID:-//ChamberMaster//Event Calendar 2.0//EN
METHOD:PUBLISH
X-PUBLISHED-TTL:P3D
REFRESH-INTERVAL:P3D
CALSCALE:GREGORIAN
BEGIN:VEVENT
DTSTART:20170323T230000Z
DTEND:20170324T010000Z
X-MICROSOFT-CDO-ALLDAYEVENT:FALSE
SUMMARY:The Music Hall Loft featuring: 20th Century Women
DESCRIPTION:Nominated for two Golden Globes and one Oscar. During the summer of 1979\, a Santa Barbara single mom and boardinghouse landlord (Annette Bening) decides the best way she can parent her teenage son (Lucas Jade Zumann) is to enlist her young tenants - a quirky punk photographer (Greta Gerwig)\, a mellow handyman (Billy Crudup) and her son's shrewd best friend (Elle Fanning) - to serve as role models in a changing world.
X-ALT-DESC;FMTTYPE=text/html:Nominated for two Golden Globes and one Oscar. During the summer of 1979\, a Santa Barbara single mom and boardinghouse landlord (Annette Bening) decides the best way she can parent her teenage son (Lucas Jade Zumann) is to enlist her young tenants - a quirky punk photographer (Greta Gerwig)\, a mellow handyman (Billy Crudup) and her son&rsquo\;s shrewd best friend (Elle Fanning) - to serve as role models in a changing world.
LOCATION:The Music Hall Loft 131 Congress Street Portsmouth\, NH
UID:e.1659.30226
SEQUENCE:3
DTSTAMP:20260421T150156Z
URL:https://business.portsmouthchamber.org/events/details/the-music-hall-loft-featuring-20th-century-women-30226
END:VEVENT

END:VCALENDAR
