BEGIN:VCALENDAR
VERSION:2.0
PRODID:-//ChamberMaster//Event Calendar 2.0//EN
METHOD:PUBLISH
X-PUBLISHED-TTL:P3D
REFRESH-INTERVAL:P3D
CALSCALE:GREGORIAN
BEGIN:VEVENT
DTSTART:20161101T230000Z
DTEND:20161102T010000Z
X-MICROSOFT-CDO-ALLDAYEVENT:FALSE
SUMMARY:The Music Hall Loft: Lo and Behold\, Reveries of the Connected World
DESCRIPTION:The latest from master documentarian\, Werner Herzog. Society depends on the Internet for nearly everything but rarely do we step back and recognize its endless intricacies and unsettling omnipotence. Herzog explores - in a playful yet chilling examination - our rapidly interconnecting online lives.
X-ALT-DESC;FMTTYPE=text/html:The latest from master documentarian\, Werner Herzog. Society depends on the Internet for nearly everything but rarely do we step back and recognize its endless intricacies and unsettling omnipotence. Herzog explores - in a playful yet chilling examination - our rapidly interconnecting online lives.
LOCATION:The Music Hall Loft 131 Congress Street Portsmouth\, NH 03801
UID:e.1659.27906
SEQUENCE:3
DTSTAMP:20260421T213520Z
URL:https://business.portsmouthchamber.org/events/details/the-music-hall-loft-lo-and-behold-reveries-of-the-connected-world-11-01-2016-27906
END:VEVENT

END:VCALENDAR
