BEGIN:VCALENDAR
VERSION:2.0
PRODID:-//ChamberMaster//Event Calendar 2.0//EN
METHOD:PUBLISH
X-PUBLISHED-TTL:P3D
REFRESH-INTERVAL:P3D
CALSCALE:GREGORIAN
BEGIN:VEVENT
DTSTART:20161110T003000Z
DTEND:20161110T023000Z
X-MICROSOFT-CDO-ALLDAYEVENT:FALSE
SUMMARY:The Music Hall Loft: Lydia Loveless
DESCRIPTION:Firebrand alt-country singer Lydia Loveless combines the honky tonk sound and style of classic country stars like Loretta Lynn and Patsy Cline with the no-quarter attitude and spunk of punk rock divas such as Exene Cervenka and Carla Bozulich. Uncompromising and direct\, Loveless is a rare songwriter with bittersweet lyrics and a bruised but indomitable voice. She doesn't write conventional tunes\; even her love songs arrive with a twist.
X-ALT-DESC;FMTTYPE=text/html:Firebrand alt-country singer Lydia Loveless combines the honky tonk sound and style of classic country stars like Loretta Lynn and Patsy Cline with the no-quarter attitude and spunk of punk rock divas such as Exene Cervenka and Carla Bozulich. Uncompromising and direct\, Loveless is a rare songwriter with bittersweet lyrics and a bruised but indomitable voice. She doesn&rsquo\;t write conventional tunes\; even her love songs arrive with a twist.
LOCATION:The Music Hall Loft 131 Congress Street Portsmouth\, NH 03801
UID:e.1659.27920
SEQUENCE:3
DTSTAMP:20260421T225158Z
URL:https://business.portsmouthchamber.org/events/details/the-music-hall-loft-lydia-loveless-27920
END:VEVENT

END:VCALENDAR
