BEGIN:VCALENDAR
VERSION:2.0
PRODID:-//ChamberMaster//Event Calendar 2.0//EN
METHOD:PUBLISH
X-PUBLISHED-TTL:P3D
REFRESH-INTERVAL:P3D
CALSCALE:GREGORIAN
BEGIN:VEVENT
DTSTART:20161111T003000Z
DTEND:20161111T023000Z
X-MICROSOFT-CDO-ALLDAYEVENT:FALSE
SUMMARY:The Music Hall Loft: My Brightest Diamond
DESCRIPTION:Not many people can front a rock band\, sing G recki's Third Symphony\, lead a marching band processional down the streets of the Sundance film festival and perform in a baroque opera of their own composing all in a month's time. But Shara Worden can. Her multi-faceted career as My Brightest Diamond\, which began with an acclaimed independent rock record\, has reflected her journey into the world of performing arts. This Is My Hand\, her fourth album\, marks a confident return to rock music\, one informed by her mastery of composition and a new exploration into the electronic.
X-ALT-DESC;FMTTYPE=text/html:Not many people can front a rock band\, sing G&oacute\;recki&rsquo\;s Third Symphony\, lead a marching band processional down the streets of the Sundance film festival and perform in a baroque opera of their own composing&mdash\;all in a month&rsquo\;s time. But Shara Worden can. Her multi-faceted career as My Brightest Diamond\, which began with an acclaimed independent rock record\, has reflected her journey into the world of performing arts. This Is My Hand\, her fourth album\, marks a confident return to rock music\, one informed by her mastery of composition and a new exploration into the electronic.
LOCATION:The Music Hall Loft 131 Congress Street Portsmouth\, NH 03801
UID:e.1659.27921
SEQUENCE:3
DTSTAMP:20260421T225133Z
URL:https://business.portsmouthchamber.org/events/details/the-music-hall-loft-my-brightest-diamond-27921
END:VEVENT

END:VCALENDAR
