BEGIN:VCALENDAR
VERSION:2.0
PRODID:-//ChamberMaster//Event Calendar 2.0//EN
METHOD:PUBLISH
X-PUBLISHED-TTL:P3D
REFRESH-INTERVAL:P3D
CALSCALE:GREGORIAN
BEGIN:VEVENT
DTSTART:20170426T230000Z
DTEND:20170427T010000Z
X-MICROSOFT-CDO-ALLDAYEVENT:FALSE
SUMMARY:The Music Hall Loft presents "After The Storm"
DESCRIPTION:Dwelling on his past glory as a prize-winning author\, Ryota (Hiroshi Abe) wastes the money he makes as a private detective on gambling and can barely pay child support. After the death of his father\, his aging mother and beautiful ex-wife seem to be moving on with their lives. Ryota struggles to take back control of his existence and to find a lasting place in the life of his young son - until a stormy summer night offers them a chance to truly bond again.\n\n\n\nNR ? 1h57m ? Japan(subtitled)
X-ALT-DESC;FMTTYPE=text/html:Dwelling on his past glory as a prize-winning author\, Ryota (Hiroshi Abe) wastes the money he makes as a private detective on gambling and can barely pay child support. After the death of his father\, his aging mother and beautiful ex-wife seem to be moving on with their lives. Ryota struggles to take back control of his existence and to find a lasting place in the life of his young son - until a stormy summer night offers them a chance to truly bond again.<br>\n<br>\nNR ? 1h57m ? Japan(subtitled)
LOCATION:The Music Hall Loft 131 Congress Street Portsmouth\, NH
UID:e.1659.30256
SEQUENCE:3
DTSTAMP:20260421T131951Z
URL:https://business.portsmouthchamber.org/events/details/the-music-hall-loft-presents-after-the-storm-04-26-2017-30256
END:VEVENT

END:VCALENDAR
