BEGIN:VCALENDAR
VERSION:2.0
PRODID:-//ChamberMaster//Event Calendar 2.0//EN
METHOD:PUBLISH
X-PUBLISHED-TTL:P3D
REFRESH-INTERVAL:P3D
CALSCALE:GREGORIAN
BEGIN:VEVENT
DTSTART;VALUE=DATE:20170312
DTEND;VALUE=DATE:20170313
TRANSP:TRANSPARENT
X-MICROSOFT-CDO-ALLDAYEVENT:TRUE
SUMMARY:The Music Hall Loft presents: All the Time in the World
DESCRIPTION:A documentary for the whole family. In search of a new perspective\, a family of five leave the comforts of home to live remotely in the Yukon wilderness during the long northern winter and amidst the surprises that the rawness of nature provide.  The parents leave their jobs and take their three children\, ages 10\, 8 and 4\, to spend nine months living in a small cabin with no road access\, no electricity\, no running water\, and no internet\, no TV\, no phone and\, most importantly\, no clocks or watches.
X-ALT-DESC;FMTTYPE=text/html:A documentary for the whole family. In search of a new perspective\, a family of five leave the comforts of home to live remotely in the Yukon wilderness during the long northern winter and amidst the surprises that the rawness of nature provide. &nbsp\;The parents leave their jobs and take their three children\, ages 10\, 8 and 4\, to spend nine months living in a small cabin with no road access\, no electricity\, no running water\, and no internet\, no TV\, no phone and\, most importantly\, no clocks or watches.
LOCATION:The Music Hall Loft 131 Congress Street Portsmouth\, NH
UID:e.1659.30075
SEQUENCE:3
DTSTAMP:20260421T164304Z
URL:https://business.portsmouthchamber.org/events/details/the-music-hall-loft-presents-all-the-time-in-the-world-30075
END:VEVENT

END:VCALENDAR
