BEGIN:VCALENDAR
VERSION:2.0
PRODID:-//ChamberMaster//Event Calendar 2.0//EN
METHOD:PUBLISH
X-PUBLISHED-TTL:P3D
REFRESH-INTERVAL:P3D
CALSCALE:GREGORIAN
BEGIN:VEVENT
DTSTART:20170305T180000Z
DTEND:20170305T213000Z
X-MICROSOFT-CDO-ALLDAYEVENT:FALSE
SUMMARY:The Music Hall Loft presents: Amadeaus
DESCRIPTION:Music. Power. Jealousy.\n\n\n\nLucian Msamati (Luther\, Game of Thrones\, NT Live: The Comedy of Errors) plays Salieri in Peter Shaffer's iconic play\, broadcast live from the National Theatre\, and with live orchestral accompaniment by Southbank Sinfonia.\n\n\n\nWolfgang Amadeus Mozart\, a rowdy young prodigy\, arrives in Vienna\, the music capital of the world   and he's determined to make a splash. Awestruck by his genius\, court composer Antonio Salieri has the power to promote his talent or destroy his name. Seized by obsessive jealousy he begins a war with Mozart\, with music\, and ultimately\, with God.\n\n\n\nAfter winning multiple Olivier and Tony Awards when it had its premiere at the National Theatre in 1979\, Amadeus was adapted into an Academy Award-winning film.
X-ALT-DESC;FMTTYPE=text/html:Music. Power. Jealousy.<br />\n<br />\nLucian Msamati (Luther\, Game of Thrones\, NT Live: The Comedy of Errors) plays Salieri in Peter Shaffer&rsquo\;s iconic play\, broadcast live from the National Theatre\, and with live orchestral accompaniment by Southbank Sinfonia.<br />\n<br />\nWolfgang Amadeus Mozart\, a rowdy young prodigy\, arrives in Vienna\, the music capital of the world &ndash\; and he&rsquo\;s determined to make a splash. Awestruck by his genius\, court composer Antonio Salieri has the power to promote his talent or destroy his name. Seized by obsessive jealousy he begins a war with Mozart\, with music\, and ultimately\, with God.<br />\n<br />\nAfter winning multiple Olivier and Tony Awards when it had its premiere at the National Theatre in 1979\, Amadeus was adapted into an Academy Award-winning film.
LOCATION:The Music Hall Loft 131 Congress Street\, Portsmouth
UID:e.1659.30059
SEQUENCE:3
DTSTAMP:20260421T163837Z
URL:https://business.portsmouthchamber.org/events/details/the-music-hall-loft-presents-amadeaus-30059
END:VEVENT

END:VCALENDAR
