BEGIN:VCALENDAR
VERSION:2.0
PRODID:-//ChamberMaster//Event Calendar 2.0//EN
METHOD:PUBLISH
X-PUBLISHED-TTL:P3D
REFRESH-INTERVAL:P3D
CALSCALE:GREGORIAN
BEGIN:VEVENT
DTSTART:20170415T163000Z
DTEND:20170415T203000Z
X-MICROSOFT-CDO-ALLDAYEVENT:FALSE
SUMMARY:The Music Hall Loft presents "Bolshoi Ballet On Screen: The Sleeping Beauty"
DESCRIPTION:On her 16th birthday\, a curse by the evil Carabosse causes the beautiful Princess Aurora to fall into a deep slumber for 100 years. Only the kiss of a prince could awaken her \n\n\n\nIn this resplendent and magical classic\, the Bolshoi dancers take us on a dream-like journey through this classic fairytale complete with jewel fairies\, a magical kingdom\, a youthful princess and a handsome prince in this purest style of classical ballet. The Bolshoi's sumptuous staging with its luxurious sets and costumes gives life to Perrault's fairy tale unlike any other. A must-see!\n\n\n\nMusic: Pyotr Ilyich Tchaikovsky\; Choreography: Yuri Grigorovich\; Libretto: Ivan Vsevolozhsky and Marius Petipa (after Charles Perrault)
X-ALT-DESC;FMTTYPE=text/html:On her 16th birthday\, a curse by the evil Carabosse causes the beautiful Princess Aurora to fall into a deep slumber for 100 years. Only the kiss of a prince could awaken her&hellip\;<br />\n<br />\nIn this resplendent and magical classic\, the Bolshoi dancers take us on a dream-like journey through this classic fairytale complete with jewel fairies\, a magical kingdom\, a youthful princess and a handsome prince in this purest style of classical ballet. The Bolshoi&rsquo\;s sumptuous staging with its luxurious sets and costumes gives life to Perrault&rsquo\;s fairy tale unlike any other. A must-see!<br />\n<br />\nMusic: Pyotr Ilyich Tchaikovsky\; Choreography: Yuri Grigorovich\; Libretto: Ivan Vsevolozhsky and Marius Petipa (after Charles Perrault)
LOCATION:The Music Hall Loft 131 Congress Street Portsmouth\, NH
UID:e.1659.30242
SEQUENCE:3
DTSTAMP:20260421T132215Z
URL:https://business.portsmouthchamber.org/events/details/the-music-hall-loft-presents-bolshoi-ballet-on-screen-the-sleeping-beauty-30242
END:VEVENT

END:VCALENDAR
